BEGIN:VCALENDAR
VERSION:2.0
PRODID:-//Dataw Visual Arts Club - ECPv6.15.20//NONSGML v1.0//EN
CALSCALE:GREGORIAN
METHOD:PUBLISH
X-WR-CALNAME:Dataw Visual Arts Club
X-ORIGINAL-URL:https://dataw.art
X-WR-CALDESC:Events for Dataw Visual Arts Club
REFRESH-INTERVAL;VALUE=DURATION:PT1H
X-Robots-Tag:noindex
X-PUBLISHED-TTL:PT1H
BEGIN:VTIMEZONE
TZID:America/New_York
BEGIN:DAYLIGHT
TZOFFSETFROM:-0500
TZOFFSETTO:-0400
TZNAME:EDT
DTSTART:20250309T070000
END:DAYLIGHT
BEGIN:STANDARD
TZOFFSETFROM:-0400
TZOFFSETTO:-0500
TZNAME:EST
DTSTART:20251102T060000
END:STANDARD
BEGIN:DAYLIGHT
TZOFFSETFROM:-0500
TZOFFSETTO:-0400
TZNAME:EDT
DTSTART:20260308T070000
END:DAYLIGHT
BEGIN:STANDARD
TZOFFSETFROM:-0400
TZOFFSETTO:-0500
TZNAME:EST
DTSTART:20261101T060000
END:STANDARD
BEGIN:DAYLIGHT
TZOFFSETFROM:-0500
TZOFFSETTO:-0400
TZNAME:EDT
DTSTART:20270314T070000
END:DAYLIGHT
BEGIN:STANDARD
TZOFFSETFROM:-0400
TZOFFSETTO:-0500
TZNAME:EST
DTSTART:20271107T060000
END:STANDARD
END:VTIMEZONE
BEGIN:VEVENT
DTSTART;TZID=America/New_York:20260427T130000
DTEND;TZID=America/New_York:20260427T150000
DTSTAMP:20260423T110325
CREATED:20250228T163951Z
LAST-MODIFIED:20250228T170133Z
UID:10005719-1777294800-1777302000@dataw.art
SUMMARY:Card Club Class  1pm - 3pm
DESCRIPTION:Card Club Class 4th Monday of every month.
URL:https://dataw.art/event/card-club-2-4pm-2022-07-25-3/2026-04-27/
LOCATION:CC arts and crafts room
CATEGORIES:Card Club Class
ORGANIZER;CN="Dena Dardzinski":MAILTO:ddard@att.net
END:VEVENT
BEGIN:VEVENT
DTSTART;TZID=America/New_York:20260504T150000
DTEND;TZID=America/New_York:20260504T170000
DTSTAMP:20260423T110325
CREATED:20251224T200725Z
LAST-MODIFIED:20251224T200725Z
UID:10005598-1777906800-1777914000@dataw.art
SUMMARY:Board Meeting - 3-5 pm
DESCRIPTION:VAC Board Meeting meets on the first Monday of every month\, except in January\, July\, and August.
URL:https://dataw.art/event/board-meeting-3pm-2-2/2026-05-04/
LOCATION:CC arts and crafts room
ORGANIZER;CN="Linda Stevens-Sloan":MAILTO:llindastevenssloan@gmail.com
END:VEVENT
BEGIN:VEVENT
DTSTART;TZID=America/New_York:20260507T090000
DTEND;TZID=America/New_York:20260507T120000
DTSTAMP:20260423T110325
CREATED:20260215T155101Z
LAST-MODIFIED:20260215T165430Z
UID:10006288-1778144400-1778155200@dataw.art
SUMMARY:Thursday Open Studio - 9am-Noon
DESCRIPTION:“Thursday Open Studio” meets every week from 9 am to noon starting May 7\, 2026.
URL:https://dataw.art/event/thursday-open-studio-900am-to-noon-2-2-3/2026-05-07/
LOCATION:CC arts and crafts room
CATEGORIES:Thursday
ORGANIZER;CN="Anne Clements":MAILTO:annebclements@yahoo.com
END:VEVENT
BEGIN:VEVENT
DTSTART;TZID=America/New_York:20260512T140000
DTEND;TZID=America/New_York:20260512T160000
DTSTAMP:20260423T110325
CREATED:20250730T183758Z
LAST-MODIFIED:20260215T145405Z
UID:10005657-1778594400-1778601600@dataw.art
SUMMARY:Card Club Class 2-4pm
DESCRIPTION:Card Club Class 2nd Tuesday of every month.
URL:https://dataw.art/event/card-club-2-4pm-2-2023-01-10-2-2/2026-05-12/
LOCATION:CC arts and crafts room
CATEGORIES:Card Club Class
END:VEVENT
BEGIN:VEVENT
DTSTART;TZID=America/New_York:20260514T090000
DTEND;TZID=America/New_York:20260514T120000
DTSTAMP:20260423T110325
CREATED:20260215T155101Z
LAST-MODIFIED:20260215T165430Z
UID:10006289-1778749200-1778760000@dataw.art
SUMMARY:Thursday Open Studio - 9am-Noon
DESCRIPTION:“Thursday Open Studio” meets every week from 9 am to noon starting May 7\, 2026.
URL:https://dataw.art/event/thursday-open-studio-900am-to-noon-2-2-3/2026-05-14/
LOCATION:CC arts and crafts room
CATEGORIES:Thursday
ORGANIZER;CN="Anne Clements":MAILTO:annebclements@yahoo.com
END:VEVENT
BEGIN:VEVENT
DTSTART;TZID=America/New_York:20260514T143000
DTEND;TZID=America/New_York:20260514T173000
DTSTAMP:20260423T110325
CREATED:20250730T184723Z
LAST-MODIFIED:20250730T185030Z
UID:10005809-1778769000-1778779800@dataw.art
SUMMARY:Watercolor Society - Open Studio
DESCRIPTION:Open Studio 2:30 – 5:30 pm Second Thursday of the month
URL:https://dataw.art/event/watercolor-society-open-studio/2026-05-14/
ATTACH;FMTTYPE=image/jpeg:https://dataw.art/wp-content/uploads/Watercolor-Society-800x600-1.jpg
END:VEVENT
BEGIN:VEVENT
DTSTART;TZID=America/New_York:20260516T093000
DTEND;TZID=America/New_York:20260516T123000
DTSTAMP:20260423T110325
CREATED:20250730T185214Z
LAST-MODIFIED:20250730T185324Z
UID:10005869-1778923800-1778934600@dataw.art
SUMMARY:Watercolor Society - Meeting
DESCRIPTION:Meetings 9:30 – 12:30 pm Third Saturday of the month
URL:https://dataw.art/event/watercolor-society-meeting/2026-05-16/
ATTACH;FMTTYPE=image/jpeg:https://dataw.art/wp-content/uploads/Watercolor-Society-800x600-1.jpg
END:VEVENT
BEGIN:VEVENT
DTSTART;TZID=America/New_York:20260519T190000
DTEND;TZID=America/New_York:20260519T210000
DTSTAMP:20260423T110325
CREATED:20250730T184046Z
LAST-MODIFIED:20260215T145319Z
UID:10005357-1779217200-1779224400@dataw.art
SUMMARY:Card Club Open Studio 7pm - 9pm
DESCRIPTION:Card Club Open Studio 3rd Tuesday of every month.
URL:https://dataw.art/event/card-club-open-studio-7-9-pm-2-2-2-2/2026-05-19/
LOCATION:CC arts and crafts room
CATEGORIES:Card Club
END:VEVENT
BEGIN:VEVENT
DTSTART;TZID=America/New_York:20260521T090000
DTEND;TZID=America/New_York:20260521T120000
DTSTAMP:20260423T110325
CREATED:20260215T155101Z
LAST-MODIFIED:20260215T165430Z
UID:10006290-1779354000-1779364800@dataw.art
SUMMARY:Thursday Open Studio - 9am-Noon
DESCRIPTION:“Thursday Open Studio” meets every week from 9 am to noon starting May 7\, 2026.
URL:https://dataw.art/event/thursday-open-studio-900am-to-noon-2-2-3/2026-05-21/
LOCATION:CC arts and crafts room
CATEGORIES:Thursday
ORGANIZER;CN="Anne Clements":MAILTO:annebclements@yahoo.com
END:VEVENT
BEGIN:VEVENT
DTSTART;TZID=America/New_York:20260525T130000
DTEND;TZID=America/New_York:20260525T150000
DTSTAMP:20260423T110325
CREATED:20250228T163951Z
LAST-MODIFIED:20250228T170133Z
UID:10005720-1779714000-1779721200@dataw.art
SUMMARY:Card Club Class  1pm - 3pm
DESCRIPTION:Card Club Class 4th Monday of every month.
URL:https://dataw.art/event/card-club-2-4pm-2022-07-25-3/2026-05-25/
LOCATION:CC arts and crafts room
CATEGORIES:Card Club Class
ORGANIZER;CN="Dena Dardzinski":MAILTO:ddard@att.net
END:VEVENT
BEGIN:VEVENT
DTSTART;TZID=America/New_York:20260528T090000
DTEND;TZID=America/New_York:20260528T120000
DTSTAMP:20260423T110325
CREATED:20260215T155101Z
LAST-MODIFIED:20260215T165430Z
UID:10006291-1779958800-1779969600@dataw.art
SUMMARY:Thursday Open Studio - 9am-Noon
DESCRIPTION:“Thursday Open Studio” meets every week from 9 am to noon starting May 7\, 2026.
URL:https://dataw.art/event/thursday-open-studio-900am-to-noon-2-2-3/2026-05-28/
LOCATION:CC arts and crafts room
CATEGORIES:Thursday
ORGANIZER;CN="Anne Clements":MAILTO:annebclements@yahoo.com
END:VEVENT
BEGIN:VEVENT
DTSTART;TZID=America/New_York:20260601T150000
DTEND;TZID=America/New_York:20260601T170000
DTSTAMP:20260423T110325
CREATED:20251224T200725Z
LAST-MODIFIED:20251224T200725Z
UID:10005599-1780326000-1780333200@dataw.art
SUMMARY:Board Meeting - 3-5 pm
DESCRIPTION:VAC Board Meeting meets on the first Monday of every month\, except in January\, July\, and August.
URL:https://dataw.art/event/board-meeting-3pm-2-2/2026-06-01/
LOCATION:CC arts and crafts room
ORGANIZER;CN="Linda Stevens-Sloan":MAILTO:llindastevenssloan@gmail.com
END:VEVENT
BEGIN:VEVENT
DTSTART;TZID=America/New_York:20260604T090000
DTEND;TZID=America/New_York:20260604T120000
DTSTAMP:20260423T110325
CREATED:20260215T155101Z
LAST-MODIFIED:20260215T165430Z
UID:10006292-1780563600-1780574400@dataw.art
SUMMARY:Thursday Open Studio - 9am-Noon
DESCRIPTION:“Thursday Open Studio” meets every week from 9 am to noon starting May 7\, 2026.
URL:https://dataw.art/event/thursday-open-studio-900am-to-noon-2-2-3/2026-06-04/
LOCATION:CC arts and crafts room
CATEGORIES:Thursday
ORGANIZER;CN="Anne Clements":MAILTO:annebclements@yahoo.com
END:VEVENT
BEGIN:VEVENT
DTSTART;TZID=America/New_York:20260609T140000
DTEND;TZID=America/New_York:20260609T160000
DTSTAMP:20260423T110325
CREATED:20250730T183758Z
LAST-MODIFIED:20260215T145405Z
UID:10005658-1781013600-1781020800@dataw.art
SUMMARY:Card Club Class 2-4pm
DESCRIPTION:Card Club Class 2nd Tuesday of every month.
URL:https://dataw.art/event/card-club-2-4pm-2-2023-01-10-2-2/2026-06-09/
LOCATION:CC arts and crafts room
CATEGORIES:Card Club Class
END:VEVENT
BEGIN:VEVENT
DTSTART;TZID=America/New_York:20260611T090000
DTEND;TZID=America/New_York:20260611T120000
DTSTAMP:20260423T110325
CREATED:20260215T155101Z
LAST-MODIFIED:20260215T165430Z
UID:10006293-1781168400-1781179200@dataw.art
SUMMARY:Thursday Open Studio - 9am-Noon
DESCRIPTION:“Thursday Open Studio” meets every week from 9 am to noon starting May 7\, 2026.
URL:https://dataw.art/event/thursday-open-studio-900am-to-noon-2-2-3/2026-06-11/
LOCATION:CC arts and crafts room
CATEGORIES:Thursday
ORGANIZER;CN="Anne Clements":MAILTO:annebclements@yahoo.com
END:VEVENT
BEGIN:VEVENT
DTSTART;TZID=America/New_York:20260611T143000
DTEND;TZID=America/New_York:20260611T173000
DTSTAMP:20260423T110325
CREATED:20250730T184723Z
LAST-MODIFIED:20250730T185030Z
UID:10005810-1781188200-1781199000@dataw.art
SUMMARY:Watercolor Society - Open Studio
DESCRIPTION:Open Studio 2:30 – 5:30 pm Second Thursday of the month
URL:https://dataw.art/event/watercolor-society-open-studio/2026-06-11/
ATTACH;FMTTYPE=image/jpeg:https://dataw.art/wp-content/uploads/Watercolor-Society-800x600-1.jpg
END:VEVENT
BEGIN:VEVENT
DTSTART;TZID=America/New_York:20260616T190000
DTEND;TZID=America/New_York:20260616T210000
DTSTAMP:20260423T110325
CREATED:20250730T184046Z
LAST-MODIFIED:20260215T145319Z
UID:10005358-1781636400-1781643600@dataw.art
SUMMARY:Card Club Open Studio 7pm - 9pm
DESCRIPTION:Card Club Open Studio 3rd Tuesday of every month.
URL:https://dataw.art/event/card-club-open-studio-7-9-pm-2-2-2-2/2026-06-16/
LOCATION:CC arts and crafts room
CATEGORIES:Card Club
END:VEVENT
BEGIN:VEVENT
DTSTART;TZID=America/New_York:20260618T090000
DTEND;TZID=America/New_York:20260618T120000
DTSTAMP:20260423T110325
CREATED:20260215T155101Z
LAST-MODIFIED:20260215T165430Z
UID:10006294-1781773200-1781784000@dataw.art
SUMMARY:Thursday Open Studio - 9am-Noon
DESCRIPTION:“Thursday Open Studio” meets every week from 9 am to noon starting May 7\, 2026.
URL:https://dataw.art/event/thursday-open-studio-900am-to-noon-2-2-3/2026-06-18/
LOCATION:CC arts and crafts room
CATEGORIES:Thursday
ORGANIZER;CN="Anne Clements":MAILTO:annebclements@yahoo.com
END:VEVENT
BEGIN:VEVENT
DTSTART;TZID=America/New_York:20260620T093000
DTEND;TZID=America/New_York:20260620T123000
DTSTAMP:20260423T110325
CREATED:20250730T185214Z
LAST-MODIFIED:20250730T185324Z
UID:10005870-1781947800-1781958600@dataw.art
SUMMARY:Watercolor Society - Meeting
DESCRIPTION:Meetings 9:30 – 12:30 pm Third Saturday of the month
URL:https://dataw.art/event/watercolor-society-meeting/2026-06-20/
ATTACH;FMTTYPE=image/jpeg:https://dataw.art/wp-content/uploads/Watercolor-Society-800x600-1.jpg
END:VEVENT
BEGIN:VEVENT
DTSTART;TZID=America/New_York:20260622T130000
DTEND;TZID=America/New_York:20260622T150000
DTSTAMP:20260423T110325
CREATED:20250228T163951Z
LAST-MODIFIED:20250228T170133Z
UID:10005721-1782133200-1782140400@dataw.art
SUMMARY:Card Club Class  1pm - 3pm
DESCRIPTION:Card Club Class 4th Monday of every month.
URL:https://dataw.art/event/card-club-2-4pm-2022-07-25-3/2026-06-22/
LOCATION:CC arts and crafts room
CATEGORIES:Card Club Class
ORGANIZER;CN="Dena Dardzinski":MAILTO:ddard@att.net
END:VEVENT
BEGIN:VEVENT
DTSTART;TZID=America/New_York:20260625T090000
DTEND;TZID=America/New_York:20260625T120000
DTSTAMP:20260423T110325
CREATED:20260215T155101Z
LAST-MODIFIED:20260215T165430Z
UID:10006295-1782378000-1782388800@dataw.art
SUMMARY:Thursday Open Studio - 9am-Noon
DESCRIPTION:“Thursday Open Studio” meets every week from 9 am to noon starting May 7\, 2026.
URL:https://dataw.art/event/thursday-open-studio-900am-to-noon-2-2-3/2026-06-25/
LOCATION:CC arts and crafts room
CATEGORIES:Thursday
ORGANIZER;CN="Anne Clements":MAILTO:annebclements@yahoo.com
END:VEVENT
BEGIN:VEVENT
DTSTART;TZID=America/New_York:20260702T090000
DTEND;TZID=America/New_York:20260702T120000
DTSTAMP:20260423T110325
CREATED:20260215T155101Z
LAST-MODIFIED:20260215T165430Z
UID:10006296-1782982800-1782993600@dataw.art
SUMMARY:Thursday Open Studio - 9am-Noon
DESCRIPTION:“Thursday Open Studio” meets every week from 9 am to noon starting May 7\, 2026.
URL:https://dataw.art/event/thursday-open-studio-900am-to-noon-2-2-3/2026-07-02/
LOCATION:CC arts and crafts room
CATEGORIES:Thursday
ORGANIZER;CN="Anne Clements":MAILTO:annebclements@yahoo.com
END:VEVENT
BEGIN:VEVENT
DTSTART;TZID=America/New_York:20260706T150000
DTEND;TZID=America/New_York:20260706T170000
DTSTAMP:20260423T110325
CREATED:20251224T200725Z
LAST-MODIFIED:20251224T200725Z
UID:10005600-1783350000-1783357200@dataw.art
SUMMARY:Board Meeting - 3-5 pm
DESCRIPTION:VAC Board Meeting meets on the first Monday of every month\, except in January\, July\, and August.
URL:https://dataw.art/event/board-meeting-3pm-2-2/2026-07-06/
LOCATION:CC arts and crafts room
ORGANIZER;CN="Linda Stevens-Sloan":MAILTO:llindastevenssloan@gmail.com
END:VEVENT
BEGIN:VEVENT
DTSTART;TZID=America/New_York:20260709T090000
DTEND;TZID=America/New_York:20260709T120000
DTSTAMP:20260423T110325
CREATED:20260215T155101Z
LAST-MODIFIED:20260215T165430Z
UID:10006297-1783587600-1783598400@dataw.art
SUMMARY:Thursday Open Studio - 9am-Noon
DESCRIPTION:“Thursday Open Studio” meets every week from 9 am to noon starting May 7\, 2026.
URL:https://dataw.art/event/thursday-open-studio-900am-to-noon-2-2-3/2026-07-09/
LOCATION:CC arts and crafts room
CATEGORIES:Thursday
ORGANIZER;CN="Anne Clements":MAILTO:annebclements@yahoo.com
END:VEVENT
BEGIN:VEVENT
DTSTART;TZID=America/New_York:20260709T143000
DTEND;TZID=America/New_York:20260709T173000
DTSTAMP:20260423T110325
CREATED:20250730T184723Z
LAST-MODIFIED:20250730T185030Z
UID:10005811-1783607400-1783618200@dataw.art
SUMMARY:Watercolor Society - Open Studio
DESCRIPTION:Open Studio 2:30 – 5:30 pm Second Thursday of the month
URL:https://dataw.art/event/watercolor-society-open-studio/2026-07-09/
ATTACH;FMTTYPE=image/jpeg:https://dataw.art/wp-content/uploads/Watercolor-Society-800x600-1.jpg
END:VEVENT
BEGIN:VEVENT
DTSTART;TZID=America/New_York:20260714T140000
DTEND;TZID=America/New_York:20260714T160000
DTSTAMP:20260423T110325
CREATED:20250730T183758Z
LAST-MODIFIED:20260215T145405Z
UID:10005659-1784037600-1784044800@dataw.art
SUMMARY:Card Club Class 2-4pm
DESCRIPTION:Card Club Class 2nd Tuesday of every month.
URL:https://dataw.art/event/card-club-2-4pm-2-2023-01-10-2-2/2026-07-14/
LOCATION:CC arts and crafts room
CATEGORIES:Card Club Class
END:VEVENT
BEGIN:VEVENT
DTSTART;TZID=America/New_York:20260716T090000
DTEND;TZID=America/New_York:20260716T120000
DTSTAMP:20260423T110325
CREATED:20260215T155101Z
LAST-MODIFIED:20260215T165430Z
UID:10006298-1784192400-1784203200@dataw.art
SUMMARY:Thursday Open Studio - 9am-Noon
DESCRIPTION:“Thursday Open Studio” meets every week from 9 am to noon starting May 7\, 2026.
URL:https://dataw.art/event/thursday-open-studio-900am-to-noon-2-2-3/2026-07-16/
LOCATION:CC arts and crafts room
CATEGORIES:Thursday
ORGANIZER;CN="Anne Clements":MAILTO:annebclements@yahoo.com
END:VEVENT
BEGIN:VEVENT
DTSTART;TZID=America/New_York:20260718T093000
DTEND;TZID=America/New_York:20260718T123000
DTSTAMP:20260423T110325
CREATED:20250730T185214Z
LAST-MODIFIED:20250730T185324Z
UID:10005871-1784367000-1784377800@dataw.art
SUMMARY:Watercolor Society - Meeting
DESCRIPTION:Meetings 9:30 – 12:30 pm Third Saturday of the month
URL:https://dataw.art/event/watercolor-society-meeting/2026-07-18/
ATTACH;FMTTYPE=image/jpeg:https://dataw.art/wp-content/uploads/Watercolor-Society-800x600-1.jpg
END:VEVENT
BEGIN:VEVENT
DTSTART;TZID=America/New_York:20260721T190000
DTEND;TZID=America/New_York:20260721T210000
DTSTAMP:20260423T110325
CREATED:20250730T184046Z
LAST-MODIFIED:20260215T145319Z
UID:10005359-1784660400-1784667600@dataw.art
SUMMARY:Card Club Open Studio 7pm - 9pm
DESCRIPTION:Card Club Open Studio 3rd Tuesday of every month.
URL:https://dataw.art/event/card-club-open-studio-7-9-pm-2-2-2-2/2026-07-21/
LOCATION:CC arts and crafts room
CATEGORIES:Card Club
END:VEVENT
BEGIN:VEVENT
DTSTART;TZID=America/New_York:20260723T090000
DTEND;TZID=America/New_York:20260723T120000
DTSTAMP:20260423T110325
CREATED:20260215T155101Z
LAST-MODIFIED:20260215T165430Z
UID:10006299-1784797200-1784808000@dataw.art
SUMMARY:Thursday Open Studio - 9am-Noon
DESCRIPTION:“Thursday Open Studio” meets every week from 9 am to noon starting May 7\, 2026.
URL:https://dataw.art/event/thursday-open-studio-900am-to-noon-2-2-3/2026-07-23/
LOCATION:CC arts and crafts room
CATEGORIES:Thursday
ORGANIZER;CN="Anne Clements":MAILTO:annebclements@yahoo.com
END:VEVENT
END:VCALENDAR