BEGIN:VCALENDAR
VERSION:2.0
PRODID:-//Dataw Visual Arts Club - ECPv6.15.20//NONSGML v1.0//EN
CALSCALE:GREGORIAN
METHOD:PUBLISH
X-WR-CALNAME:Dataw Visual Arts Club
X-ORIGINAL-URL:https://dataw.art
X-WR-CALDESC:Events for Dataw Visual Arts Club
REFRESH-INTERVAL;VALUE=DURATION:PT1H
X-Robots-Tag:noindex
X-PUBLISHED-TTL:PT1H
BEGIN:VTIMEZONE
TZID:America/New_York
BEGIN:DAYLIGHT
TZOFFSETFROM:-0500
TZOFFSETTO:-0400
TZNAME:EDT
DTSTART:20250309T070000
END:DAYLIGHT
BEGIN:STANDARD
TZOFFSETFROM:-0400
TZOFFSETTO:-0500
TZNAME:EST
DTSTART:20251102T060000
END:STANDARD
BEGIN:DAYLIGHT
TZOFFSETFROM:-0500
TZOFFSETTO:-0400
TZNAME:EDT
DTSTART:20260308T070000
END:DAYLIGHT
BEGIN:STANDARD
TZOFFSETFROM:-0400
TZOFFSETTO:-0500
TZNAME:EST
DTSTART:20261101T060000
END:STANDARD
BEGIN:DAYLIGHT
TZOFFSETFROM:-0500
TZOFFSETTO:-0400
TZNAME:EDT
DTSTART:20270314T070000
END:DAYLIGHT
BEGIN:STANDARD
TZOFFSETFROM:-0400
TZOFFSETTO:-0500
TZNAME:EST
DTSTART:20271107T060000
END:STANDARD
BEGIN:DAYLIGHT
TZOFFSETFROM:-0500
TZOFFSETTO:-0400
TZNAME:EDT
DTSTART:20280312T070000
END:DAYLIGHT
BEGIN:STANDARD
TZOFFSETFROM:-0400
TZOFFSETTO:-0500
TZNAME:EST
DTSTART:20281105T060000
END:STANDARD
BEGIN:DAYLIGHT
TZOFFSETFROM:-0500
TZOFFSETTO:-0400
TZNAME:EDT
DTSTART:20290311T070000
END:DAYLIGHT
BEGIN:STANDARD
TZOFFSETFROM:-0400
TZOFFSETTO:-0500
TZNAME:EST
DTSTART:20291104T060000
END:STANDARD
END:VTIMEZONE
BEGIN:VEVENT
DTSTART;TZID=America/New_York:20260519T190000
DTEND;TZID=America/New_York:20260519T210000
DTSTAMP:20260423T130451
CREATED:20250730T184046Z
LAST-MODIFIED:20260215T145319Z
UID:10005357-1779217200-1779224400@dataw.art
SUMMARY:Card Club Open Studio 7pm - 9pm
DESCRIPTION:Card Club Open Studio 3rd Tuesday of every month.
URL:https://dataw.art/event/card-club-open-studio-7-9-pm-2-2-2-2/2026-05-19/
LOCATION:CC arts and crafts room
CATEGORIES:Card Club
END:VEVENT
BEGIN:VEVENT
DTSTART;TZID=America/New_York:20260616T190000
DTEND;TZID=America/New_York:20260616T210000
DTSTAMP:20260423T130451
CREATED:20250730T184046Z
LAST-MODIFIED:20260215T145319Z
UID:10005358-1781636400-1781643600@dataw.art
SUMMARY:Card Club Open Studio 7pm - 9pm
DESCRIPTION:Card Club Open Studio 3rd Tuesday of every month.
URL:https://dataw.art/event/card-club-open-studio-7-9-pm-2-2-2-2/2026-06-16/
LOCATION:CC arts and crafts room
CATEGORIES:Card Club
END:VEVENT
BEGIN:VEVENT
DTSTART;TZID=America/New_York:20260721T190000
DTEND;TZID=America/New_York:20260721T210000
DTSTAMP:20260423T130451
CREATED:20250730T184046Z
LAST-MODIFIED:20260215T145319Z
UID:10005359-1784660400-1784667600@dataw.art
SUMMARY:Card Club Open Studio 7pm - 9pm
DESCRIPTION:Card Club Open Studio 3rd Tuesday of every month.
URL:https://dataw.art/event/card-club-open-studio-7-9-pm-2-2-2-2/2026-07-21/
LOCATION:CC arts and crafts room
CATEGORIES:Card Club
END:VEVENT
BEGIN:VEVENT
DTSTART;TZID=America/New_York:20260818T190000
DTEND;TZID=America/New_York:20260818T210000
DTSTAMP:20260423T130451
CREATED:20250730T184046Z
LAST-MODIFIED:20260215T145319Z
UID:10005360-1787079600-1787086800@dataw.art
SUMMARY:Card Club Open Studio 7pm - 9pm
DESCRIPTION:Card Club Open Studio 3rd Tuesday of every month.
URL:https://dataw.art/event/card-club-open-studio-7-9-pm-2-2-2-2/2026-08-18/
LOCATION:CC arts and crafts room
CATEGORIES:Card Club
END:VEVENT
BEGIN:VEVENT
DTSTART;TZID=America/New_York:20260915T190000
DTEND;TZID=America/New_York:20260915T210000
DTSTAMP:20260423T130451
CREATED:20250730T184046Z
LAST-MODIFIED:20260215T145319Z
UID:10005361-1789498800-1789506000@dataw.art
SUMMARY:Card Club Open Studio 7pm - 9pm
DESCRIPTION:Card Club Open Studio 3rd Tuesday of every month.
URL:https://dataw.art/event/card-club-open-studio-7-9-pm-2-2-2-2/2026-09-15/
LOCATION:CC arts and crafts room
CATEGORIES:Card Club
END:VEVENT
BEGIN:VEVENT
DTSTART;TZID=America/New_York:20261020T190000
DTEND;TZID=America/New_York:20261020T210000
DTSTAMP:20260423T130451
CREATED:20250730T184046Z
LAST-MODIFIED:20260215T145319Z
UID:10005362-1792522800-1792530000@dataw.art
SUMMARY:Card Club Open Studio 7pm - 9pm
DESCRIPTION:Card Club Open Studio 3rd Tuesday of every month.
URL:https://dataw.art/event/card-club-open-studio-7-9-pm-2-2-2-2/2026-10-20/
LOCATION:CC arts and crafts room
CATEGORIES:Card Club
END:VEVENT
BEGIN:VEVENT
DTSTART;TZID=America/New_York:20261117T190000
DTEND;TZID=America/New_York:20261117T210000
DTSTAMP:20260423T130451
CREATED:20250730T184046Z
LAST-MODIFIED:20260215T145319Z
UID:10005363-1794942000-1794949200@dataw.art
SUMMARY:Card Club Open Studio 7pm - 9pm
DESCRIPTION:Card Club Open Studio 3rd Tuesday of every month.
URL:https://dataw.art/event/card-club-open-studio-7-9-pm-2-2-2-2/2026-11-17/
LOCATION:CC arts and crafts room
CATEGORIES:Card Club
END:VEVENT
BEGIN:VEVENT
DTSTART;TZID=America/New_York:20261215T190000
DTEND;TZID=America/New_York:20261215T210000
DTSTAMP:20260423T130451
CREATED:20250730T184046Z
LAST-MODIFIED:20260215T145319Z
UID:10005364-1797361200-1797368400@dataw.art
SUMMARY:Card Club Open Studio 7pm - 9pm
DESCRIPTION:Card Club Open Studio 3rd Tuesday of every month.
URL:https://dataw.art/event/card-club-open-studio-7-9-pm-2-2-2-2/2026-12-15/
LOCATION:CC arts and crafts room
CATEGORIES:Card Club
END:VEVENT
BEGIN:VEVENT
DTSTART;TZID=America/New_York:20270119T190000
DTEND;TZID=America/New_York:20270119T210000
DTSTAMP:20260423T130451
CREATED:20250730T184046Z
LAST-MODIFIED:20260215T145319Z
UID:10005365-1800385200-1800392400@dataw.art
SUMMARY:Card Club Open Studio 7pm - 9pm
DESCRIPTION:Card Club Open Studio 3rd Tuesday of every month.
URL:https://dataw.art/event/card-club-open-studio-7-9-pm-2-2-2-2/2027-01-19/
LOCATION:CC arts and crafts room
CATEGORIES:Card Club
END:VEVENT
BEGIN:VEVENT
DTSTART;TZID=America/New_York:20270216T190000
DTEND;TZID=America/New_York:20270216T210000
DTSTAMP:20260423T130451
CREATED:20250730T184046Z
LAST-MODIFIED:20260215T145319Z
UID:10005366-1802804400-1802811600@dataw.art
SUMMARY:Card Club Open Studio 7pm - 9pm
DESCRIPTION:Card Club Open Studio 3rd Tuesday of every month.
URL:https://dataw.art/event/card-club-open-studio-7-9-pm-2-2-2-2/2027-02-16/
LOCATION:CC arts and crafts room
CATEGORIES:Card Club
END:VEVENT
BEGIN:VEVENT
DTSTART;TZID=America/New_York:20270316T190000
DTEND;TZID=America/New_York:20270316T210000
DTSTAMP:20260423T130451
CREATED:20250730T184046Z
LAST-MODIFIED:20260215T145319Z
UID:10005367-1805223600-1805230800@dataw.art
SUMMARY:Card Club Open Studio 7pm - 9pm
DESCRIPTION:Card Club Open Studio 3rd Tuesday of every month.
URL:https://dataw.art/event/card-club-open-studio-7-9-pm-2-2-2-2/2027-03-16/
LOCATION:CC arts and crafts room
CATEGORIES:Card Club
END:VEVENT
BEGIN:VEVENT
DTSTART;TZID=America/New_York:20270420T190000
DTEND;TZID=America/New_York:20270420T210000
DTSTAMP:20260423T130451
CREATED:20250730T184046Z
LAST-MODIFIED:20260215T145319Z
UID:10005368-1808247600-1808254800@dataw.art
SUMMARY:Card Club Open Studio 7pm - 9pm
DESCRIPTION:Card Club Open Studio 3rd Tuesday of every month.
URL:https://dataw.art/event/card-club-open-studio-7-9-pm-2-2-2-2/2027-04-20/
LOCATION:CC arts and crafts room
CATEGORIES:Card Club
END:VEVENT
BEGIN:VEVENT
DTSTART;TZID=America/New_York:20270518T190000
DTEND;TZID=America/New_York:20270518T210000
DTSTAMP:20260423T130451
CREATED:20250730T184046Z
LAST-MODIFIED:20260215T145319Z
UID:10005369-1810666800-1810674000@dataw.art
SUMMARY:Card Club Open Studio 7pm - 9pm
DESCRIPTION:Card Club Open Studio 3rd Tuesday of every month.
URL:https://dataw.art/event/card-club-open-studio-7-9-pm-2-2-2-2/2027-05-18/
LOCATION:CC arts and crafts room
CATEGORIES:Card Club
END:VEVENT
BEGIN:VEVENT
DTSTART;TZID=America/New_York:20270615T190000
DTEND;TZID=America/New_York:20270615T210000
DTSTAMP:20260423T130451
CREATED:20250730T184046Z
LAST-MODIFIED:20260215T145319Z
UID:10005370-1813086000-1813093200@dataw.art
SUMMARY:Card Club Open Studio 7pm - 9pm
DESCRIPTION:Card Club Open Studio 3rd Tuesday of every month.
URL:https://dataw.art/event/card-club-open-studio-7-9-pm-2-2-2-2/2027-06-15/
LOCATION:CC arts and crafts room
CATEGORIES:Card Club
END:VEVENT
BEGIN:VEVENT
DTSTART;TZID=America/New_York:20270720T190000
DTEND;TZID=America/New_York:20270720T210000
DTSTAMP:20260423T130451
CREATED:20250730T184046Z
LAST-MODIFIED:20260215T145319Z
UID:10005371-1816110000-1816117200@dataw.art
SUMMARY:Card Club Open Studio 7pm - 9pm
DESCRIPTION:Card Club Open Studio 3rd Tuesday of every month.
URL:https://dataw.art/event/card-club-open-studio-7-9-pm-2-2-2-2/2027-07-20/
LOCATION:CC arts and crafts room
CATEGORIES:Card Club
END:VEVENT
BEGIN:VEVENT
DTSTART;TZID=America/New_York:20270817T190000
DTEND;TZID=America/New_York:20270817T210000
DTSTAMP:20260423T130451
CREATED:20250730T184046Z
LAST-MODIFIED:20260215T145319Z
UID:10005372-1818529200-1818536400@dataw.art
SUMMARY:Card Club Open Studio 7pm - 9pm
DESCRIPTION:Card Club Open Studio 3rd Tuesday of every month.
URL:https://dataw.art/event/card-club-open-studio-7-9-pm-2-2-2-2/2027-08-17/
LOCATION:CC arts and crafts room
CATEGORIES:Card Club
END:VEVENT
BEGIN:VEVENT
DTSTART;TZID=America/New_York:20270921T190000
DTEND;TZID=America/New_York:20270921T210000
DTSTAMP:20260423T130451
CREATED:20250730T184046Z
LAST-MODIFIED:20260215T145319Z
UID:10005373-1821553200-1821560400@dataw.art
SUMMARY:Card Club Open Studio 7pm - 9pm
DESCRIPTION:Card Club Open Studio 3rd Tuesday of every month.
URL:https://dataw.art/event/card-club-open-studio-7-9-pm-2-2-2-2/2027-09-21/
LOCATION:CC arts and crafts room
CATEGORIES:Card Club
END:VEVENT
BEGIN:VEVENT
DTSTART;TZID=America/New_York:20271019T190000
DTEND;TZID=America/New_York:20271019T210000
DTSTAMP:20260423T130451
CREATED:20250730T184046Z
LAST-MODIFIED:20260215T145319Z
UID:10005374-1823972400-1823979600@dataw.art
SUMMARY:Card Club Open Studio 7pm - 9pm
DESCRIPTION:Card Club Open Studio 3rd Tuesday of every month.
URL:https://dataw.art/event/card-club-open-studio-7-9-pm-2-2-2-2/2027-10-19/
LOCATION:CC arts and crafts room
CATEGORIES:Card Club
END:VEVENT
BEGIN:VEVENT
DTSTART;TZID=America/New_York:20271116T190000
DTEND;TZID=America/New_York:20271116T210000
DTSTAMP:20260423T130451
CREATED:20250730T184046Z
LAST-MODIFIED:20260215T145319Z
UID:10005375-1826391600-1826398800@dataw.art
SUMMARY:Card Club Open Studio 7pm - 9pm
DESCRIPTION:Card Club Open Studio 3rd Tuesday of every month.
URL:https://dataw.art/event/card-club-open-studio-7-9-pm-2-2-2-2/2027-11-16/
LOCATION:CC arts and crafts room
CATEGORIES:Card Club
END:VEVENT
BEGIN:VEVENT
DTSTART;TZID=America/New_York:20271221T190000
DTEND;TZID=America/New_York:20271221T210000
DTSTAMP:20260423T130451
CREATED:20250730T184046Z
LAST-MODIFIED:20260215T145319Z
UID:10005376-1829415600-1829422800@dataw.art
SUMMARY:Card Club Open Studio 7pm - 9pm
DESCRIPTION:Card Club Open Studio 3rd Tuesday of every month.
URL:https://dataw.art/event/card-club-open-studio-7-9-pm-2-2-2-2/2027-12-21/
LOCATION:CC arts and crafts room
CATEGORIES:Card Club
END:VEVENT
BEGIN:VEVENT
DTSTART;TZID=America/New_York:20280118T190000
DTEND;TZID=America/New_York:20280118T210000
DTSTAMP:20260423T130451
CREATED:20250730T184046Z
LAST-MODIFIED:20260215T145319Z
UID:10005377-1831834800-1831842000@dataw.art
SUMMARY:Card Club Open Studio 7pm - 9pm
DESCRIPTION:Card Club Open Studio 3rd Tuesday of every month.
URL:https://dataw.art/event/card-club-open-studio-7-9-pm-2-2-2-2/2028-01-18/
LOCATION:CC arts and crafts room
CATEGORIES:Card Club
END:VEVENT
BEGIN:VEVENT
DTSTART;TZID=America/New_York:20280215T190000
DTEND;TZID=America/New_York:20280215T210000
DTSTAMP:20260423T130451
CREATED:20250730T184046Z
LAST-MODIFIED:20260215T145319Z
UID:10005378-1834254000-1834261200@dataw.art
SUMMARY:Card Club Open Studio 7pm - 9pm
DESCRIPTION:Card Club Open Studio 3rd Tuesday of every month.
URL:https://dataw.art/event/card-club-open-studio-7-9-pm-2-2-2-2/2028-02-15/
LOCATION:CC arts and crafts room
CATEGORIES:Card Club
END:VEVENT
BEGIN:VEVENT
DTSTART;TZID=America/New_York:20280321T190000
DTEND;TZID=America/New_York:20280321T210000
DTSTAMP:20260423T130451
CREATED:20250730T184046Z
LAST-MODIFIED:20260215T145319Z
UID:10005379-1837278000-1837285200@dataw.art
SUMMARY:Card Club Open Studio 7pm - 9pm
DESCRIPTION:Card Club Open Studio 3rd Tuesday of every month.
URL:https://dataw.art/event/card-club-open-studio-7-9-pm-2-2-2-2/2028-03-21/
LOCATION:CC arts and crafts room
CATEGORIES:Card Club
END:VEVENT
BEGIN:VEVENT
DTSTART;TZID=America/New_York:20280418T190000
DTEND;TZID=America/New_York:20280418T210000
DTSTAMP:20260423T130451
CREATED:20250730T184046Z
LAST-MODIFIED:20260215T145319Z
UID:10005380-1839697200-1839704400@dataw.art
SUMMARY:Card Club Open Studio 7pm - 9pm
DESCRIPTION:Card Club Open Studio 3rd Tuesday of every month.
URL:https://dataw.art/event/card-club-open-studio-7-9-pm-2-2-2-2/2028-04-18/
LOCATION:CC arts and crafts room
CATEGORIES:Card Club
END:VEVENT
BEGIN:VEVENT
DTSTART;TZID=America/New_York:20280516T190000
DTEND;TZID=America/New_York:20280516T210000
DTSTAMP:20260423T130451
CREATED:20250730T184046Z
LAST-MODIFIED:20260215T145319Z
UID:10005381-1842116400-1842123600@dataw.art
SUMMARY:Card Club Open Studio 7pm - 9pm
DESCRIPTION:Card Club Open Studio 3rd Tuesday of every month.
URL:https://dataw.art/event/card-club-open-studio-7-9-pm-2-2-2-2/2028-05-16/
LOCATION:CC arts and crafts room
CATEGORIES:Card Club
END:VEVENT
BEGIN:VEVENT
DTSTART;TZID=America/New_York:20280620T190000
DTEND;TZID=America/New_York:20280620T210000
DTSTAMP:20260423T130451
CREATED:20250730T184046Z
LAST-MODIFIED:20260215T145319Z
UID:10005382-1845140400-1845147600@dataw.art
SUMMARY:Card Club Open Studio 7pm - 9pm
DESCRIPTION:Card Club Open Studio 3rd Tuesday of every month.
URL:https://dataw.art/event/card-club-open-studio-7-9-pm-2-2-2-2/2028-06-20/
LOCATION:CC arts and crafts room
CATEGORIES:Card Club
END:VEVENT
BEGIN:VEVENT
DTSTART;TZID=America/New_York:20280718T190000
DTEND;TZID=America/New_York:20280718T210000
DTSTAMP:20260423T130451
CREATED:20250730T184046Z
LAST-MODIFIED:20260215T145319Z
UID:10005383-1847559600-1847566800@dataw.art
SUMMARY:Card Club Open Studio 7pm - 9pm
DESCRIPTION:Card Club Open Studio 3rd Tuesday of every month.
URL:https://dataw.art/event/card-club-open-studio-7-9-pm-2-2-2-2/2028-07-18/
LOCATION:CC arts and crafts room
CATEGORIES:Card Club
END:VEVENT
BEGIN:VEVENT
DTSTART;TZID=America/New_York:20280815T190000
DTEND;TZID=America/New_York:20280815T210000
DTSTAMP:20260423T130451
CREATED:20250730T184046Z
LAST-MODIFIED:20260215T145319Z
UID:10005384-1849978800-1849986000@dataw.art
SUMMARY:Card Club Open Studio 7pm - 9pm
DESCRIPTION:Card Club Open Studio 3rd Tuesday of every month.
URL:https://dataw.art/event/card-club-open-studio-7-9-pm-2-2-2-2/2028-08-15/
LOCATION:CC arts and crafts room
CATEGORIES:Card Club
END:VEVENT
BEGIN:VEVENT
DTSTART;TZID=America/New_York:20280919T190000
DTEND;TZID=America/New_York:20280919T210000
DTSTAMP:20260423T130451
CREATED:20250730T184046Z
LAST-MODIFIED:20260215T145319Z
UID:10005385-1853002800-1853010000@dataw.art
SUMMARY:Card Club Open Studio 7pm - 9pm
DESCRIPTION:Card Club Open Studio 3rd Tuesday of every month.
URL:https://dataw.art/event/card-club-open-studio-7-9-pm-2-2-2-2/2028-09-19/
LOCATION:CC arts and crafts room
CATEGORIES:Card Club
END:VEVENT
BEGIN:VEVENT
DTSTART;TZID=America/New_York:20281017T190000
DTEND;TZID=America/New_York:20281017T210000
DTSTAMP:20260423T130451
CREATED:20250730T184046Z
LAST-MODIFIED:20260215T145319Z
UID:10005386-1855422000-1855429200@dataw.art
SUMMARY:Card Club Open Studio 7pm - 9pm
DESCRIPTION:Card Club Open Studio 3rd Tuesday of every month.
URL:https://dataw.art/event/card-club-open-studio-7-9-pm-2-2-2-2/2028-10-17/
LOCATION:CC arts and crafts room
CATEGORIES:Card Club
END:VEVENT
END:VCALENDAR