BEGIN:VCALENDAR
VERSION:2.0
PRODID:-//Dataw Visual Arts Club - ECPv6.15.20//NONSGML v1.0//EN
CALSCALE:GREGORIAN
METHOD:PUBLISH
X-ORIGINAL-URL:https://dataw.art
X-WR-CALDESC:Events for Dataw Visual Arts Club
REFRESH-INTERVAL;VALUE=DURATION:PT1H
X-Robots-Tag:noindex
X-PUBLISHED-TTL:PT1H
BEGIN:VTIMEZONE
TZID:America/New_York
BEGIN:DAYLIGHT
TZOFFSETFROM:-0500
TZOFFSETTO:-0400
TZNAME:EDT
DTSTART:20260308T070000
END:DAYLIGHT
BEGIN:STANDARD
TZOFFSETFROM:-0400
TZOFFSETTO:-0500
TZNAME:EST
DTSTART:20261101T060000
END:STANDARD
BEGIN:DAYLIGHT
TZOFFSETFROM:-0500
TZOFFSETTO:-0400
TZNAME:EDT
DTSTART:20270314T070000
END:DAYLIGHT
BEGIN:STANDARD
TZOFFSETFROM:-0400
TZOFFSETTO:-0500
TZNAME:EST
DTSTART:20271107T060000
END:STANDARD
BEGIN:DAYLIGHT
TZOFFSETFROM:-0500
TZOFFSETTO:-0400
TZNAME:EDT
DTSTART:20280312T070000
END:DAYLIGHT
BEGIN:STANDARD
TZOFFSETFROM:-0400
TZOFFSETTO:-0500
TZNAME:EST
DTSTART:20281105T060000
END:STANDARD
BEGIN:DAYLIGHT
TZOFFSETFROM:-0500
TZOFFSETTO:-0400
TZNAME:EDT
DTSTART:20290311T070000
END:DAYLIGHT
BEGIN:STANDARD
TZOFFSETFROM:-0400
TZOFFSETTO:-0500
TZNAME:EST
DTSTART:20291104T060000
END:STANDARD
BEGIN:DAYLIGHT
TZOFFSETFROM:-0500
TZOFFSETTO:-0400
TZNAME:EDT
DTSTART:20300310T070000
END:DAYLIGHT
BEGIN:STANDARD
TZOFFSETFROM:-0400
TZOFFSETTO:-0500
TZNAME:EST
DTSTART:20301103T060000
END:STANDARD
END:VTIMEZONE
BEGIN:VEVENT
DTSTART;TZID=America/New_York:20270311T143000
DTEND;TZID=America/New_York:20270311T173000
DTSTAMP:20260423T123125
CREATED:20250730T184723Z
LAST-MODIFIED:20250730T185030Z
UID:10005819-1804775400-1804786200@dataw.art
SUMMARY:Watercolor Society - Open Studio
DESCRIPTION:Open Studio 2:30 – 5:30 pm Second Thursday of the month
URL:https://dataw.art/event/watercolor-society-open-studio/2027-03-11/
ATTACH;FMTTYPE=image/jpeg:https://dataw.art/wp-content/uploads/Watercolor-Society-800x600-1.jpg
END:VEVENT
BEGIN:VEVENT
DTSTART;TZID=America/New_York:20270408T143000
DTEND;TZID=America/New_York:20270408T173000
DTSTAMP:20260423T123125
CREATED:20250730T184723Z
LAST-MODIFIED:20250730T185030Z
UID:10005820-1807194600-1807205400@dataw.art
SUMMARY:Watercolor Society - Open Studio
DESCRIPTION:Open Studio 2:30 – 5:30 pm Second Thursday of the month
URL:https://dataw.art/event/watercolor-society-open-studio/2027-04-08/
ATTACH;FMTTYPE=image/jpeg:https://dataw.art/wp-content/uploads/Watercolor-Society-800x600-1.jpg
END:VEVENT
BEGIN:VEVENT
DTSTART;TZID=America/New_York:20270513T143000
DTEND;TZID=America/New_York:20270513T173000
DTSTAMP:20260423T123125
CREATED:20250730T184723Z
LAST-MODIFIED:20250730T185030Z
UID:10005821-1810218600-1810229400@dataw.art
SUMMARY:Watercolor Society - Open Studio
DESCRIPTION:Open Studio 2:30 – 5:30 pm Second Thursday of the month
URL:https://dataw.art/event/watercolor-society-open-studio/2027-05-13/
ATTACH;FMTTYPE=image/jpeg:https://dataw.art/wp-content/uploads/Watercolor-Society-800x600-1.jpg
END:VEVENT
BEGIN:VEVENT
DTSTART;TZID=America/New_York:20270610T143000
DTEND;TZID=America/New_York:20270610T173000
DTSTAMP:20260423T123125
CREATED:20250730T184723Z
LAST-MODIFIED:20250730T185030Z
UID:10005822-1812637800-1812648600@dataw.art
SUMMARY:Watercolor Society - Open Studio
DESCRIPTION:Open Studio 2:30 – 5:30 pm Second Thursday of the month
URL:https://dataw.art/event/watercolor-society-open-studio/2027-06-10/
ATTACH;FMTTYPE=image/jpeg:https://dataw.art/wp-content/uploads/Watercolor-Society-800x600-1.jpg
END:VEVENT
BEGIN:VEVENT
DTSTART;TZID=America/New_York:20270708T143000
DTEND;TZID=America/New_York:20270708T173000
DTSTAMP:20260423T123125
CREATED:20250730T184723Z
LAST-MODIFIED:20250730T185030Z
UID:10005823-1815057000-1815067800@dataw.art
SUMMARY:Watercolor Society - Open Studio
DESCRIPTION:Open Studio 2:30 – 5:30 pm Second Thursday of the month
URL:https://dataw.art/event/watercolor-society-open-studio/2027-07-08/
ATTACH;FMTTYPE=image/jpeg:https://dataw.art/wp-content/uploads/Watercolor-Society-800x600-1.jpg
END:VEVENT
BEGIN:VEVENT
DTSTART;TZID=America/New_York:20270812T143000
DTEND;TZID=America/New_York:20270812T173000
DTSTAMP:20260423T123125
CREATED:20250730T184723Z
LAST-MODIFIED:20250730T185030Z
UID:10005824-1818081000-1818091800@dataw.art
SUMMARY:Watercolor Society - Open Studio
DESCRIPTION:Open Studio 2:30 – 5:30 pm Second Thursday of the month
URL:https://dataw.art/event/watercolor-society-open-studio/2027-08-12/
ATTACH;FMTTYPE=image/jpeg:https://dataw.art/wp-content/uploads/Watercolor-Society-800x600-1.jpg
END:VEVENT
BEGIN:VEVENT
DTSTART;TZID=America/New_York:20270909T143000
DTEND;TZID=America/New_York:20270909T173000
DTSTAMP:20260423T123125
CREATED:20250730T184723Z
LAST-MODIFIED:20250730T185030Z
UID:10005825-1820500200-1820511000@dataw.art
SUMMARY:Watercolor Society - Open Studio
DESCRIPTION:Open Studio 2:30 – 5:30 pm Second Thursday of the month
URL:https://dataw.art/event/watercolor-society-open-studio/2027-09-09/
ATTACH;FMTTYPE=image/jpeg:https://dataw.art/wp-content/uploads/Watercolor-Society-800x600-1.jpg
END:VEVENT
BEGIN:VEVENT
DTSTART;TZID=America/New_York:20271014T143000
DTEND;TZID=America/New_York:20271014T173000
DTSTAMP:20260423T123125
CREATED:20250730T184723Z
LAST-MODIFIED:20250730T185030Z
UID:10005826-1823524200-1823535000@dataw.art
SUMMARY:Watercolor Society - Open Studio
DESCRIPTION:Open Studio 2:30 – 5:30 pm Second Thursday of the month
URL:https://dataw.art/event/watercolor-society-open-studio/2027-10-14/
ATTACH;FMTTYPE=image/jpeg:https://dataw.art/wp-content/uploads/Watercolor-Society-800x600-1.jpg
END:VEVENT
BEGIN:VEVENT
DTSTART;TZID=America/New_York:20271111T143000
DTEND;TZID=America/New_York:20271111T173000
DTSTAMP:20260423T123125
CREATED:20250730T184723Z
LAST-MODIFIED:20250730T185030Z
UID:10005827-1825943400-1825954200@dataw.art
SUMMARY:Watercolor Society - Open Studio
DESCRIPTION:Open Studio 2:30 – 5:30 pm Second Thursday of the month
URL:https://dataw.art/event/watercolor-society-open-studio/2027-11-11/
ATTACH;FMTTYPE=image/jpeg:https://dataw.art/wp-content/uploads/Watercolor-Society-800x600-1.jpg
END:VEVENT
BEGIN:VEVENT
DTSTART;TZID=America/New_York:20271209T143000
DTEND;TZID=America/New_York:20271209T173000
DTSTAMP:20260423T123125
CREATED:20250730T184723Z
LAST-MODIFIED:20250730T185030Z
UID:10005828-1828362600-1828373400@dataw.art
SUMMARY:Watercolor Society - Open Studio
DESCRIPTION:Open Studio 2:30 – 5:30 pm Second Thursday of the month
URL:https://dataw.art/event/watercolor-society-open-studio/2027-12-09/
ATTACH;FMTTYPE=image/jpeg:https://dataw.art/wp-content/uploads/Watercolor-Society-800x600-1.jpg
END:VEVENT
BEGIN:VEVENT
DTSTART;TZID=America/New_York:20280113T143000
DTEND;TZID=America/New_York:20280113T173000
DTSTAMP:20260423T123125
CREATED:20250730T184723Z
LAST-MODIFIED:20250730T185030Z
UID:10005829-1831386600-1831397400@dataw.art
SUMMARY:Watercolor Society - Open Studio
DESCRIPTION:Open Studio 2:30 – 5:30 pm Second Thursday of the month
URL:https://dataw.art/event/watercolor-society-open-studio/2028-01-13/
ATTACH;FMTTYPE=image/jpeg:https://dataw.art/wp-content/uploads/Watercolor-Society-800x600-1.jpg
END:VEVENT
BEGIN:VEVENT
DTSTART;TZID=America/New_York:20280210T143000
DTEND;TZID=America/New_York:20280210T173000
DTSTAMP:20260423T123125
CREATED:20250730T184723Z
LAST-MODIFIED:20250730T185030Z
UID:10005830-1833805800-1833816600@dataw.art
SUMMARY:Watercolor Society - Open Studio
DESCRIPTION:Open Studio 2:30 – 5:30 pm Second Thursday of the month
URL:https://dataw.art/event/watercolor-society-open-studio/2028-02-10/
ATTACH;FMTTYPE=image/jpeg:https://dataw.art/wp-content/uploads/Watercolor-Society-800x600-1.jpg
END:VEVENT
BEGIN:VEVENT
DTSTART;TZID=America/New_York:20280309T143000
DTEND;TZID=America/New_York:20280309T173000
DTSTAMP:20260423T123125
CREATED:20250730T184723Z
LAST-MODIFIED:20250730T185030Z
UID:10005831-1836225000-1836235800@dataw.art
SUMMARY:Watercolor Society - Open Studio
DESCRIPTION:Open Studio 2:30 – 5:30 pm Second Thursday of the month
URL:https://dataw.art/event/watercolor-society-open-studio/2028-03-09/
ATTACH;FMTTYPE=image/jpeg:https://dataw.art/wp-content/uploads/Watercolor-Society-800x600-1.jpg
END:VEVENT
BEGIN:VEVENT
DTSTART;TZID=America/New_York:20280413T143000
DTEND;TZID=America/New_York:20280413T173000
DTSTAMP:20260423T123125
CREATED:20250730T184723Z
LAST-MODIFIED:20250730T185030Z
UID:10005832-1839249000-1839259800@dataw.art
SUMMARY:Watercolor Society - Open Studio
DESCRIPTION:Open Studio 2:30 – 5:30 pm Second Thursday of the month
URL:https://dataw.art/event/watercolor-society-open-studio/2028-04-13/
ATTACH;FMTTYPE=image/jpeg:https://dataw.art/wp-content/uploads/Watercolor-Society-800x600-1.jpg
END:VEVENT
BEGIN:VEVENT
DTSTART;TZID=America/New_York:20280511T143000
DTEND;TZID=America/New_York:20280511T173000
DTSTAMP:20260423T123125
CREATED:20250730T184723Z
LAST-MODIFIED:20250730T185030Z
UID:10005833-1841668200-1841679000@dataw.art
SUMMARY:Watercolor Society - Open Studio
DESCRIPTION:Open Studio 2:30 – 5:30 pm Second Thursday of the month
URL:https://dataw.art/event/watercolor-society-open-studio/2028-05-11/
ATTACH;FMTTYPE=image/jpeg:https://dataw.art/wp-content/uploads/Watercolor-Society-800x600-1.jpg
END:VEVENT
BEGIN:VEVENT
DTSTART;TZID=America/New_York:20280608T143000
DTEND;TZID=America/New_York:20280608T173000
DTSTAMP:20260423T123125
CREATED:20250730T184723Z
LAST-MODIFIED:20250730T185030Z
UID:10005834-1844087400-1844098200@dataw.art
SUMMARY:Watercolor Society - Open Studio
DESCRIPTION:Open Studio 2:30 – 5:30 pm Second Thursday of the month
URL:https://dataw.art/event/watercolor-society-open-studio/2028-06-08/
ATTACH;FMTTYPE=image/jpeg:https://dataw.art/wp-content/uploads/Watercolor-Society-800x600-1.jpg
END:VEVENT
BEGIN:VEVENT
DTSTART;TZID=America/New_York:20280713T143000
DTEND;TZID=America/New_York:20280713T173000
DTSTAMP:20260423T123125
CREATED:20250730T184723Z
LAST-MODIFIED:20250730T185030Z
UID:10005835-1847111400-1847122200@dataw.art
SUMMARY:Watercolor Society - Open Studio
DESCRIPTION:Open Studio 2:30 – 5:30 pm Second Thursday of the month
URL:https://dataw.art/event/watercolor-society-open-studio/2028-07-13/
ATTACH;FMTTYPE=image/jpeg:https://dataw.art/wp-content/uploads/Watercolor-Society-800x600-1.jpg
END:VEVENT
BEGIN:VEVENT
DTSTART;TZID=America/New_York:20280810T143000
DTEND;TZID=America/New_York:20280810T173000
DTSTAMP:20260423T123125
CREATED:20250730T184723Z
LAST-MODIFIED:20250730T185030Z
UID:10005836-1849530600-1849541400@dataw.art
SUMMARY:Watercolor Society - Open Studio
DESCRIPTION:Open Studio 2:30 – 5:30 pm Second Thursday of the month
URL:https://dataw.art/event/watercolor-society-open-studio/2028-08-10/
ATTACH;FMTTYPE=image/jpeg:https://dataw.art/wp-content/uploads/Watercolor-Society-800x600-1.jpg
END:VEVENT
BEGIN:VEVENT
DTSTART;TZID=America/New_York:20280914T143000
DTEND;TZID=America/New_York:20280914T173000
DTSTAMP:20260423T123125
CREATED:20250730T184723Z
LAST-MODIFIED:20250730T185030Z
UID:10005837-1852554600-1852565400@dataw.art
SUMMARY:Watercolor Society - Open Studio
DESCRIPTION:Open Studio 2:30 – 5:30 pm Second Thursday of the month
URL:https://dataw.art/event/watercolor-society-open-studio/2028-09-14/
ATTACH;FMTTYPE=image/jpeg:https://dataw.art/wp-content/uploads/Watercolor-Society-800x600-1.jpg
END:VEVENT
BEGIN:VEVENT
DTSTART;TZID=America/New_York:20281012T143000
DTEND;TZID=America/New_York:20281012T173000
DTSTAMP:20260423T123125
CREATED:20250730T184723Z
LAST-MODIFIED:20250730T185030Z
UID:10005838-1854973800-1854984600@dataw.art
SUMMARY:Watercolor Society - Open Studio
DESCRIPTION:Open Studio 2:30 – 5:30 pm Second Thursday of the month
URL:https://dataw.art/event/watercolor-society-open-studio/2028-10-12/
ATTACH;FMTTYPE=image/jpeg:https://dataw.art/wp-content/uploads/Watercolor-Society-800x600-1.jpg
END:VEVENT
BEGIN:VEVENT
DTSTART;TZID=America/New_York:20281109T143000
DTEND;TZID=America/New_York:20281109T173000
DTSTAMP:20260423T123125
CREATED:20250730T184723Z
LAST-MODIFIED:20250730T185030Z
UID:10005839-1857393000-1857403800@dataw.art
SUMMARY:Watercolor Society - Open Studio
DESCRIPTION:Open Studio 2:30 – 5:30 pm Second Thursday of the month
URL:https://dataw.art/event/watercolor-society-open-studio/2028-11-09/
ATTACH;FMTTYPE=image/jpeg:https://dataw.art/wp-content/uploads/Watercolor-Society-800x600-1.jpg
END:VEVENT
BEGIN:VEVENT
DTSTART;TZID=America/New_York:20281214T143000
DTEND;TZID=America/New_York:20281214T173000
DTSTAMP:20260423T123125
CREATED:20250730T184723Z
LAST-MODIFIED:20250730T185030Z
UID:10005840-1860417000-1860427800@dataw.art
SUMMARY:Watercolor Society - Open Studio
DESCRIPTION:Open Studio 2:30 – 5:30 pm Second Thursday of the month
URL:https://dataw.art/event/watercolor-society-open-studio/2028-12-14/
ATTACH;FMTTYPE=image/jpeg:https://dataw.art/wp-content/uploads/Watercolor-Society-800x600-1.jpg
END:VEVENT
BEGIN:VEVENT
DTSTART;TZID=America/New_York:20290111T143000
DTEND;TZID=America/New_York:20290111T173000
DTSTAMP:20260423T123125
CREATED:20250730T184723Z
LAST-MODIFIED:20250730T185030Z
UID:10005841-1862836200-1862847000@dataw.art
SUMMARY:Watercolor Society - Open Studio
DESCRIPTION:Open Studio 2:30 – 5:30 pm Second Thursday of the month
URL:https://dataw.art/event/watercolor-society-open-studio/2029-01-11/
ATTACH;FMTTYPE=image/jpeg:https://dataw.art/wp-content/uploads/Watercolor-Society-800x600-1.jpg
END:VEVENT
BEGIN:VEVENT
DTSTART;TZID=America/New_York:20290208T143000
DTEND;TZID=America/New_York:20290208T173000
DTSTAMP:20260423T123125
CREATED:20250730T184723Z
LAST-MODIFIED:20250730T185030Z
UID:10005842-1865255400-1865266200@dataw.art
SUMMARY:Watercolor Society - Open Studio
DESCRIPTION:Open Studio 2:30 – 5:30 pm Second Thursday of the month
URL:https://dataw.art/event/watercolor-society-open-studio/2029-02-08/
ATTACH;FMTTYPE=image/jpeg:https://dataw.art/wp-content/uploads/Watercolor-Society-800x600-1.jpg
END:VEVENT
BEGIN:VEVENT
DTSTART;TZID=America/New_York:20290308T143000
DTEND;TZID=America/New_York:20290308T173000
DTSTAMP:20260423T123125
CREATED:20250730T184723Z
LAST-MODIFIED:20250730T185030Z
UID:10005843-1867674600-1867685400@dataw.art
SUMMARY:Watercolor Society - Open Studio
DESCRIPTION:Open Studio 2:30 – 5:30 pm Second Thursday of the month
URL:https://dataw.art/event/watercolor-society-open-studio/2029-03-08/
ATTACH;FMTTYPE=image/jpeg:https://dataw.art/wp-content/uploads/Watercolor-Society-800x600-1.jpg
END:VEVENT
BEGIN:VEVENT
DTSTART;TZID=America/New_York:20290412T143000
DTEND;TZID=America/New_York:20290412T173000
DTSTAMP:20260423T123125
CREATED:20250730T184723Z
LAST-MODIFIED:20250730T185030Z
UID:10005844-1870698600-1870709400@dataw.art
SUMMARY:Watercolor Society - Open Studio
DESCRIPTION:Open Studio 2:30 – 5:30 pm Second Thursday of the month
URL:https://dataw.art/event/watercolor-society-open-studio/2029-04-12/
ATTACH;FMTTYPE=image/jpeg:https://dataw.art/wp-content/uploads/Watercolor-Society-800x600-1.jpg
END:VEVENT
BEGIN:VEVENT
DTSTART;TZID=America/New_York:20290510T143000
DTEND;TZID=America/New_York:20290510T173000
DTSTAMP:20260423T123125
CREATED:20250730T184723Z
LAST-MODIFIED:20250730T185030Z
UID:10005845-1873117800-1873128600@dataw.art
SUMMARY:Watercolor Society - Open Studio
DESCRIPTION:Open Studio 2:30 – 5:30 pm Second Thursday of the month
URL:https://dataw.art/event/watercolor-society-open-studio/2029-05-10/
ATTACH;FMTTYPE=image/jpeg:https://dataw.art/wp-content/uploads/Watercolor-Society-800x600-1.jpg
END:VEVENT
BEGIN:VEVENT
DTSTART;TZID=America/New_York:20290614T143000
DTEND;TZID=America/New_York:20290614T173000
DTSTAMP:20260423T123125
CREATED:20250730T184723Z
LAST-MODIFIED:20250730T185030Z
UID:10005846-1876141800-1876152600@dataw.art
SUMMARY:Watercolor Society - Open Studio
DESCRIPTION:Open Studio 2:30 – 5:30 pm Second Thursday of the month
URL:https://dataw.art/event/watercolor-society-open-studio/2029-06-14/
ATTACH;FMTTYPE=image/jpeg:https://dataw.art/wp-content/uploads/Watercolor-Society-800x600-1.jpg
END:VEVENT
BEGIN:VEVENT
DTSTART;TZID=America/New_York:20290712T143000
DTEND;TZID=America/New_York:20290712T173000
DTSTAMP:20260423T123125
CREATED:20250730T184723Z
LAST-MODIFIED:20250730T185030Z
UID:10005847-1878561000-1878571800@dataw.art
SUMMARY:Watercolor Society - Open Studio
DESCRIPTION:Open Studio 2:30 – 5:30 pm Second Thursday of the month
URL:https://dataw.art/event/watercolor-society-open-studio/2029-07-12/
ATTACH;FMTTYPE=image/jpeg:https://dataw.art/wp-content/uploads/Watercolor-Society-800x600-1.jpg
END:VEVENT
BEGIN:VEVENT
DTSTART;TZID=America/New_York:20290809T143000
DTEND;TZID=America/New_York:20290809T173000
DTSTAMP:20260423T123125
CREATED:20250730T184723Z
LAST-MODIFIED:20250730T185030Z
UID:10005848-1880980200-1880991000@dataw.art
SUMMARY:Watercolor Society - Open Studio
DESCRIPTION:Open Studio 2:30 – 5:30 pm Second Thursday of the month
URL:https://dataw.art/event/watercolor-society-open-studio/2029-08-09/
ATTACH;FMTTYPE=image/jpeg:https://dataw.art/wp-content/uploads/Watercolor-Society-800x600-1.jpg
END:VEVENT
END:VCALENDAR