BEGIN:VCALENDAR
VERSION:2.0
PRODID:-//Dataw Visual Arts Club - ECPv6.15.20//NONSGML v1.0//EN
CALSCALE:GREGORIAN
METHOD:PUBLISH
X-ORIGINAL-URL:https://dataw.art
X-WR-CALDESC:Events for Dataw Visual Arts Club
REFRESH-INTERVAL;VALUE=DURATION:PT1H
X-Robots-Tag:noindex
X-PUBLISHED-TTL:PT1H
BEGIN:VTIMEZONE
TZID:America/New_York
BEGIN:DAYLIGHT
TZOFFSETFROM:-0500
TZOFFSETTO:-0400
TZNAME:EDT
DTSTART:20260308T070000
END:DAYLIGHT
BEGIN:STANDARD
TZOFFSETFROM:-0400
TZOFFSETTO:-0500
TZNAME:EST
DTSTART:20261101T060000
END:STANDARD
BEGIN:DAYLIGHT
TZOFFSETFROM:-0500
TZOFFSETTO:-0400
TZNAME:EDT
DTSTART:20270314T070000
END:DAYLIGHT
BEGIN:STANDARD
TZOFFSETFROM:-0400
TZOFFSETTO:-0500
TZNAME:EST
DTSTART:20271107T060000
END:STANDARD
BEGIN:DAYLIGHT
TZOFFSETFROM:-0500
TZOFFSETTO:-0400
TZNAME:EDT
DTSTART:20280312T070000
END:DAYLIGHT
BEGIN:STANDARD
TZOFFSETFROM:-0400
TZOFFSETTO:-0500
TZNAME:EST
DTSTART:20281105T060000
END:STANDARD
BEGIN:DAYLIGHT
TZOFFSETFROM:-0500
TZOFFSETTO:-0400
TZNAME:EDT
DTSTART:20290311T070000
END:DAYLIGHT
BEGIN:STANDARD
TZOFFSETFROM:-0400
TZOFFSETTO:-0500
TZNAME:EST
DTSTART:20291104T060000
END:STANDARD
BEGIN:DAYLIGHT
TZOFFSETFROM:-0500
TZOFFSETTO:-0400
TZNAME:EDT
DTSTART:20300310T070000
END:DAYLIGHT
BEGIN:STANDARD
TZOFFSETFROM:-0400
TZOFFSETTO:-0500
TZNAME:EST
DTSTART:20301103T060000
END:STANDARD
END:VTIMEZONE
BEGIN:VEVENT
DTSTART;TZID=America/New_York:20270320T093000
DTEND;TZID=America/New_York:20270320T123000
DTSTAMP:20260423T123135
CREATED:20250730T185214Z
LAST-MODIFIED:20250730T185324Z
UID:10005879-1805535000-1805545800@dataw.art
SUMMARY:Watercolor Society - Meeting
DESCRIPTION:Meetings 9:30 – 12:30 pm Third Saturday of the month
URL:https://dataw.art/event/watercolor-society-meeting/2027-03-20/
ATTACH;FMTTYPE=image/jpeg:https://dataw.art/wp-content/uploads/Watercolor-Society-800x600-1.jpg
END:VEVENT
BEGIN:VEVENT
DTSTART;TZID=America/New_York:20270417T093000
DTEND;TZID=America/New_York:20270417T123000
DTSTAMP:20260423T123135
CREATED:20250730T185214Z
LAST-MODIFIED:20250730T185324Z
UID:10005880-1807954200-1807965000@dataw.art
SUMMARY:Watercolor Society - Meeting
DESCRIPTION:Meetings 9:30 – 12:30 pm Third Saturday of the month
URL:https://dataw.art/event/watercolor-society-meeting/2027-04-17/
ATTACH;FMTTYPE=image/jpeg:https://dataw.art/wp-content/uploads/Watercolor-Society-800x600-1.jpg
END:VEVENT
BEGIN:VEVENT
DTSTART;TZID=America/New_York:20270515T093000
DTEND;TZID=America/New_York:20270515T123000
DTSTAMP:20260423T123135
CREATED:20250730T185214Z
LAST-MODIFIED:20250730T185324Z
UID:10005881-1810373400-1810384200@dataw.art
SUMMARY:Watercolor Society - Meeting
DESCRIPTION:Meetings 9:30 – 12:30 pm Third Saturday of the month
URL:https://dataw.art/event/watercolor-society-meeting/2027-05-15/
ATTACH;FMTTYPE=image/jpeg:https://dataw.art/wp-content/uploads/Watercolor-Society-800x600-1.jpg
END:VEVENT
BEGIN:VEVENT
DTSTART;TZID=America/New_York:20270619T093000
DTEND;TZID=America/New_York:20270619T123000
DTSTAMP:20260423T123135
CREATED:20250730T185214Z
LAST-MODIFIED:20250730T185324Z
UID:10005882-1813397400-1813408200@dataw.art
SUMMARY:Watercolor Society - Meeting
DESCRIPTION:Meetings 9:30 – 12:30 pm Third Saturday of the month
URL:https://dataw.art/event/watercolor-society-meeting/2027-06-19/
ATTACH;FMTTYPE=image/jpeg:https://dataw.art/wp-content/uploads/Watercolor-Society-800x600-1.jpg
END:VEVENT
BEGIN:VEVENT
DTSTART;TZID=America/New_York:20270717T093000
DTEND;TZID=America/New_York:20270717T123000
DTSTAMP:20260423T123135
CREATED:20250730T185214Z
LAST-MODIFIED:20250730T185324Z
UID:10005883-1815816600-1815827400@dataw.art
SUMMARY:Watercolor Society - Meeting
DESCRIPTION:Meetings 9:30 – 12:30 pm Third Saturday of the month
URL:https://dataw.art/event/watercolor-society-meeting/2027-07-17/
ATTACH;FMTTYPE=image/jpeg:https://dataw.art/wp-content/uploads/Watercolor-Society-800x600-1.jpg
END:VEVENT
BEGIN:VEVENT
DTSTART;TZID=America/New_York:20270821T093000
DTEND;TZID=America/New_York:20270821T123000
DTSTAMP:20260423T123135
CREATED:20250730T185214Z
LAST-MODIFIED:20250730T185324Z
UID:10005884-1818840600-1818851400@dataw.art
SUMMARY:Watercolor Society - Meeting
DESCRIPTION:Meetings 9:30 – 12:30 pm Third Saturday of the month
URL:https://dataw.art/event/watercolor-society-meeting/2027-08-21/
ATTACH;FMTTYPE=image/jpeg:https://dataw.art/wp-content/uploads/Watercolor-Society-800x600-1.jpg
END:VEVENT
BEGIN:VEVENT
DTSTART;TZID=America/New_York:20270918T093000
DTEND;TZID=America/New_York:20270918T123000
DTSTAMP:20260423T123135
CREATED:20250730T185214Z
LAST-MODIFIED:20250730T185324Z
UID:10005885-1821259800-1821270600@dataw.art
SUMMARY:Watercolor Society - Meeting
DESCRIPTION:Meetings 9:30 – 12:30 pm Third Saturday of the month
URL:https://dataw.art/event/watercolor-society-meeting/2027-09-18/
ATTACH;FMTTYPE=image/jpeg:https://dataw.art/wp-content/uploads/Watercolor-Society-800x600-1.jpg
END:VEVENT
BEGIN:VEVENT
DTSTART;TZID=America/New_York:20271016T093000
DTEND;TZID=America/New_York:20271016T123000
DTSTAMP:20260423T123135
CREATED:20250730T185214Z
LAST-MODIFIED:20250730T185324Z
UID:10005886-1823679000-1823689800@dataw.art
SUMMARY:Watercolor Society - Meeting
DESCRIPTION:Meetings 9:30 – 12:30 pm Third Saturday of the month
URL:https://dataw.art/event/watercolor-society-meeting/2027-10-16/
ATTACH;FMTTYPE=image/jpeg:https://dataw.art/wp-content/uploads/Watercolor-Society-800x600-1.jpg
END:VEVENT
BEGIN:VEVENT
DTSTART;TZID=America/New_York:20271120T093000
DTEND;TZID=America/New_York:20271120T123000
DTSTAMP:20260423T123135
CREATED:20250730T185214Z
LAST-MODIFIED:20250730T185324Z
UID:10005887-1826703000-1826713800@dataw.art
SUMMARY:Watercolor Society - Meeting
DESCRIPTION:Meetings 9:30 – 12:30 pm Third Saturday of the month
URL:https://dataw.art/event/watercolor-society-meeting/2027-11-20/
ATTACH;FMTTYPE=image/jpeg:https://dataw.art/wp-content/uploads/Watercolor-Society-800x600-1.jpg
END:VEVENT
BEGIN:VEVENT
DTSTART;TZID=America/New_York:20271218T093000
DTEND;TZID=America/New_York:20271218T123000
DTSTAMP:20260423T123135
CREATED:20250730T185214Z
LAST-MODIFIED:20250730T185324Z
UID:10005888-1829122200-1829133000@dataw.art
SUMMARY:Watercolor Society - Meeting
DESCRIPTION:Meetings 9:30 – 12:30 pm Third Saturday of the month
URL:https://dataw.art/event/watercolor-society-meeting/2027-12-18/
ATTACH;FMTTYPE=image/jpeg:https://dataw.art/wp-content/uploads/Watercolor-Society-800x600-1.jpg
END:VEVENT
BEGIN:VEVENT
DTSTART;TZID=America/New_York:20280115T093000
DTEND;TZID=America/New_York:20280115T123000
DTSTAMP:20260423T123135
CREATED:20250730T185214Z
LAST-MODIFIED:20250730T185324Z
UID:10005889-1831541400-1831552200@dataw.art
SUMMARY:Watercolor Society - Meeting
DESCRIPTION:Meetings 9:30 – 12:30 pm Third Saturday of the month
URL:https://dataw.art/event/watercolor-society-meeting/2028-01-15/
ATTACH;FMTTYPE=image/jpeg:https://dataw.art/wp-content/uploads/Watercolor-Society-800x600-1.jpg
END:VEVENT
BEGIN:VEVENT
DTSTART;TZID=America/New_York:20280219T093000
DTEND;TZID=America/New_York:20280219T123000
DTSTAMP:20260423T123135
CREATED:20250730T185214Z
LAST-MODIFIED:20250730T185324Z
UID:10005890-1834565400-1834576200@dataw.art
SUMMARY:Watercolor Society - Meeting
DESCRIPTION:Meetings 9:30 – 12:30 pm Third Saturday of the month
URL:https://dataw.art/event/watercolor-society-meeting/2028-02-19/
ATTACH;FMTTYPE=image/jpeg:https://dataw.art/wp-content/uploads/Watercolor-Society-800x600-1.jpg
END:VEVENT
BEGIN:VEVENT
DTSTART;TZID=America/New_York:20280318T093000
DTEND;TZID=America/New_York:20280318T123000
DTSTAMP:20260423T123135
CREATED:20250730T185214Z
LAST-MODIFIED:20250730T185324Z
UID:10005891-1836984600-1836995400@dataw.art
SUMMARY:Watercolor Society - Meeting
DESCRIPTION:Meetings 9:30 – 12:30 pm Third Saturday of the month
URL:https://dataw.art/event/watercolor-society-meeting/2028-03-18/
ATTACH;FMTTYPE=image/jpeg:https://dataw.art/wp-content/uploads/Watercolor-Society-800x600-1.jpg
END:VEVENT
BEGIN:VEVENT
DTSTART;TZID=America/New_York:20280415T093000
DTEND;TZID=America/New_York:20280415T123000
DTSTAMP:20260423T123135
CREATED:20250730T185214Z
LAST-MODIFIED:20250730T185324Z
UID:10005892-1839403800-1839414600@dataw.art
SUMMARY:Watercolor Society - Meeting
DESCRIPTION:Meetings 9:30 – 12:30 pm Third Saturday of the month
URL:https://dataw.art/event/watercolor-society-meeting/2028-04-15/
ATTACH;FMTTYPE=image/jpeg:https://dataw.art/wp-content/uploads/Watercolor-Society-800x600-1.jpg
END:VEVENT
BEGIN:VEVENT
DTSTART;TZID=America/New_York:20280520T093000
DTEND;TZID=America/New_York:20280520T123000
DTSTAMP:20260423T123135
CREATED:20250730T185214Z
LAST-MODIFIED:20250730T185324Z
UID:10005893-1842427800-1842438600@dataw.art
SUMMARY:Watercolor Society - Meeting
DESCRIPTION:Meetings 9:30 – 12:30 pm Third Saturday of the month
URL:https://dataw.art/event/watercolor-society-meeting/2028-05-20/
ATTACH;FMTTYPE=image/jpeg:https://dataw.art/wp-content/uploads/Watercolor-Society-800x600-1.jpg
END:VEVENT
BEGIN:VEVENT
DTSTART;TZID=America/New_York:20280617T093000
DTEND;TZID=America/New_York:20280617T123000
DTSTAMP:20260423T123135
CREATED:20250730T185214Z
LAST-MODIFIED:20250730T185324Z
UID:10005894-1844847000-1844857800@dataw.art
SUMMARY:Watercolor Society - Meeting
DESCRIPTION:Meetings 9:30 – 12:30 pm Third Saturday of the month
URL:https://dataw.art/event/watercolor-society-meeting/2028-06-17/
ATTACH;FMTTYPE=image/jpeg:https://dataw.art/wp-content/uploads/Watercolor-Society-800x600-1.jpg
END:VEVENT
BEGIN:VEVENT
DTSTART;TZID=America/New_York:20280715T093000
DTEND;TZID=America/New_York:20280715T123000
DTSTAMP:20260423T123135
CREATED:20250730T185214Z
LAST-MODIFIED:20250730T185324Z
UID:10005895-1847266200-1847277000@dataw.art
SUMMARY:Watercolor Society - Meeting
DESCRIPTION:Meetings 9:30 – 12:30 pm Third Saturday of the month
URL:https://dataw.art/event/watercolor-society-meeting/2028-07-15/
ATTACH;FMTTYPE=image/jpeg:https://dataw.art/wp-content/uploads/Watercolor-Society-800x600-1.jpg
END:VEVENT
BEGIN:VEVENT
DTSTART;TZID=America/New_York:20280819T093000
DTEND;TZID=America/New_York:20280819T123000
DTSTAMP:20260423T123135
CREATED:20250730T185214Z
LAST-MODIFIED:20250730T185324Z
UID:10005896-1850290200-1850301000@dataw.art
SUMMARY:Watercolor Society - Meeting
DESCRIPTION:Meetings 9:30 – 12:30 pm Third Saturday of the month
URL:https://dataw.art/event/watercolor-society-meeting/2028-08-19/
ATTACH;FMTTYPE=image/jpeg:https://dataw.art/wp-content/uploads/Watercolor-Society-800x600-1.jpg
END:VEVENT
BEGIN:VEVENT
DTSTART;TZID=America/New_York:20280916T093000
DTEND;TZID=America/New_York:20280916T123000
DTSTAMP:20260423T123135
CREATED:20250730T185214Z
LAST-MODIFIED:20250730T185324Z
UID:10005897-1852709400-1852720200@dataw.art
SUMMARY:Watercolor Society - Meeting
DESCRIPTION:Meetings 9:30 – 12:30 pm Third Saturday of the month
URL:https://dataw.art/event/watercolor-society-meeting/2028-09-16/
ATTACH;FMTTYPE=image/jpeg:https://dataw.art/wp-content/uploads/Watercolor-Society-800x600-1.jpg
END:VEVENT
BEGIN:VEVENT
DTSTART;TZID=America/New_York:20281021T093000
DTEND;TZID=America/New_York:20281021T123000
DTSTAMP:20260423T123135
CREATED:20250730T185214Z
LAST-MODIFIED:20250730T185324Z
UID:10005898-1855733400-1855744200@dataw.art
SUMMARY:Watercolor Society - Meeting
DESCRIPTION:Meetings 9:30 – 12:30 pm Third Saturday of the month
URL:https://dataw.art/event/watercolor-society-meeting/2028-10-21/
ATTACH;FMTTYPE=image/jpeg:https://dataw.art/wp-content/uploads/Watercolor-Society-800x600-1.jpg
END:VEVENT
BEGIN:VEVENT
DTSTART;TZID=America/New_York:20281118T093000
DTEND;TZID=America/New_York:20281118T123000
DTSTAMP:20260423T123135
CREATED:20250730T185214Z
LAST-MODIFIED:20250730T185324Z
UID:10005899-1858152600-1858163400@dataw.art
SUMMARY:Watercolor Society - Meeting
DESCRIPTION:Meetings 9:30 – 12:30 pm Third Saturday of the month
URL:https://dataw.art/event/watercolor-society-meeting/2028-11-18/
ATTACH;FMTTYPE=image/jpeg:https://dataw.art/wp-content/uploads/Watercolor-Society-800x600-1.jpg
END:VEVENT
BEGIN:VEVENT
DTSTART;TZID=America/New_York:20281216T093000
DTEND;TZID=America/New_York:20281216T123000
DTSTAMP:20260423T123135
CREATED:20250730T185214Z
LAST-MODIFIED:20250730T185324Z
UID:10005900-1860571800-1860582600@dataw.art
SUMMARY:Watercolor Society - Meeting
DESCRIPTION:Meetings 9:30 – 12:30 pm Third Saturday of the month
URL:https://dataw.art/event/watercolor-society-meeting/2028-12-16/
ATTACH;FMTTYPE=image/jpeg:https://dataw.art/wp-content/uploads/Watercolor-Society-800x600-1.jpg
END:VEVENT
BEGIN:VEVENT
DTSTART;TZID=America/New_York:20290120T093000
DTEND;TZID=America/New_York:20290120T123000
DTSTAMP:20260423T123135
CREATED:20250730T185214Z
LAST-MODIFIED:20250730T185324Z
UID:10005901-1863595800-1863606600@dataw.art
SUMMARY:Watercolor Society - Meeting
DESCRIPTION:Meetings 9:30 – 12:30 pm Third Saturday of the month
URL:https://dataw.art/event/watercolor-society-meeting/2029-01-20/
ATTACH;FMTTYPE=image/jpeg:https://dataw.art/wp-content/uploads/Watercolor-Society-800x600-1.jpg
END:VEVENT
BEGIN:VEVENT
DTSTART;TZID=America/New_York:20290217T093000
DTEND;TZID=America/New_York:20290217T123000
DTSTAMP:20260423T123135
CREATED:20250730T185214Z
LAST-MODIFIED:20250730T185324Z
UID:10005902-1866015000-1866025800@dataw.art
SUMMARY:Watercolor Society - Meeting
DESCRIPTION:Meetings 9:30 – 12:30 pm Third Saturday of the month
URL:https://dataw.art/event/watercolor-society-meeting/2029-02-17/
ATTACH;FMTTYPE=image/jpeg:https://dataw.art/wp-content/uploads/Watercolor-Society-800x600-1.jpg
END:VEVENT
BEGIN:VEVENT
DTSTART;TZID=America/New_York:20290317T093000
DTEND;TZID=America/New_York:20290317T123000
DTSTAMP:20260423T123135
CREATED:20250730T185214Z
LAST-MODIFIED:20250730T185324Z
UID:10005903-1868434200-1868445000@dataw.art
SUMMARY:Watercolor Society - Meeting
DESCRIPTION:Meetings 9:30 – 12:30 pm Third Saturday of the month
URL:https://dataw.art/event/watercolor-society-meeting/2029-03-17/
ATTACH;FMTTYPE=image/jpeg:https://dataw.art/wp-content/uploads/Watercolor-Society-800x600-1.jpg
END:VEVENT
BEGIN:VEVENT
DTSTART;TZID=America/New_York:20290421T093000
DTEND;TZID=America/New_York:20290421T123000
DTSTAMP:20260423T123135
CREATED:20250730T185214Z
LAST-MODIFIED:20250730T185324Z
UID:10005904-1871458200-1871469000@dataw.art
SUMMARY:Watercolor Society - Meeting
DESCRIPTION:Meetings 9:30 – 12:30 pm Third Saturday of the month
URL:https://dataw.art/event/watercolor-society-meeting/2029-04-21/
ATTACH;FMTTYPE=image/jpeg:https://dataw.art/wp-content/uploads/Watercolor-Society-800x600-1.jpg
END:VEVENT
BEGIN:VEVENT
DTSTART;TZID=America/New_York:20290519T093000
DTEND;TZID=America/New_York:20290519T123000
DTSTAMP:20260423T123135
CREATED:20250730T185214Z
LAST-MODIFIED:20250730T185324Z
UID:10005905-1873877400-1873888200@dataw.art
SUMMARY:Watercolor Society - Meeting
DESCRIPTION:Meetings 9:30 – 12:30 pm Third Saturday of the month
URL:https://dataw.art/event/watercolor-society-meeting/2029-05-19/
ATTACH;FMTTYPE=image/jpeg:https://dataw.art/wp-content/uploads/Watercolor-Society-800x600-1.jpg
END:VEVENT
BEGIN:VEVENT
DTSTART;TZID=America/New_York:20290616T093000
DTEND;TZID=America/New_York:20290616T123000
DTSTAMP:20260423T123135
CREATED:20250730T185214Z
LAST-MODIFIED:20250730T185324Z
UID:10005906-1876296600-1876307400@dataw.art
SUMMARY:Watercolor Society - Meeting
DESCRIPTION:Meetings 9:30 – 12:30 pm Third Saturday of the month
URL:https://dataw.art/event/watercolor-society-meeting/2029-06-16/
ATTACH;FMTTYPE=image/jpeg:https://dataw.art/wp-content/uploads/Watercolor-Society-800x600-1.jpg
END:VEVENT
BEGIN:VEVENT
DTSTART;TZID=America/New_York:20290721T093000
DTEND;TZID=America/New_York:20290721T123000
DTSTAMP:20260423T123135
CREATED:20250730T185214Z
LAST-MODIFIED:20250730T185324Z
UID:10005907-1879320600-1879331400@dataw.art
SUMMARY:Watercolor Society - Meeting
DESCRIPTION:Meetings 9:30 – 12:30 pm Third Saturday of the month
URL:https://dataw.art/event/watercolor-society-meeting/2029-07-21/
ATTACH;FMTTYPE=image/jpeg:https://dataw.art/wp-content/uploads/Watercolor-Society-800x600-1.jpg
END:VEVENT
BEGIN:VEVENT
DTSTART;TZID=America/New_York:20290818T093000
DTEND;TZID=America/New_York:20290818T123000
DTSTAMP:20260423T123135
CREATED:20250730T185214Z
LAST-MODIFIED:20250730T185324Z
UID:10005908-1881739800-1881750600@dataw.art
SUMMARY:Watercolor Society - Meeting
DESCRIPTION:Meetings 9:30 – 12:30 pm Third Saturday of the month
URL:https://dataw.art/event/watercolor-society-meeting/2029-08-18/
ATTACH;FMTTYPE=image/jpeg:https://dataw.art/wp-content/uploads/Watercolor-Society-800x600-1.jpg
END:VEVENT
END:VCALENDAR