BEGIN:VCALENDAR
VERSION:2.0
PRODID:-//Dataw Visual Arts Club - ECPv6.15.20//NONSGML v1.0//EN
CALSCALE:GREGORIAN
METHOD:PUBLISH
X-ORIGINAL-URL:https://dataw.art
X-WR-CALDESC:Events for Dataw Visual Arts Club
REFRESH-INTERVAL;VALUE=DURATION:PT1H
X-Robots-Tag:noindex
X-PUBLISHED-TTL:PT1H
BEGIN:VTIMEZONE
TZID:America/New_York
BEGIN:DAYLIGHT
TZOFFSETFROM:-0500
TZOFFSETTO:-0400
TZNAME:EDT
DTSTART:20260308T070000
END:DAYLIGHT
BEGIN:STANDARD
TZOFFSETFROM:-0400
TZOFFSETTO:-0500
TZNAME:EST
DTSTART:20261101T060000
END:STANDARD
BEGIN:DAYLIGHT
TZOFFSETFROM:-0500
TZOFFSETTO:-0400
TZNAME:EDT
DTSTART:20270314T070000
END:DAYLIGHT
BEGIN:STANDARD
TZOFFSETFROM:-0400
TZOFFSETTO:-0500
TZNAME:EST
DTSTART:20271107T060000
END:STANDARD
BEGIN:DAYLIGHT
TZOFFSETFROM:-0500
TZOFFSETTO:-0400
TZNAME:EDT
DTSTART:20280312T070000
END:DAYLIGHT
BEGIN:STANDARD
TZOFFSETFROM:-0400
TZOFFSETTO:-0500
TZNAME:EST
DTSTART:20281105T060000
END:STANDARD
BEGIN:DAYLIGHT
TZOFFSETFROM:-0500
TZOFFSETTO:-0400
TZNAME:EDT
DTSTART:20290311T070000
END:DAYLIGHT
BEGIN:STANDARD
TZOFFSETFROM:-0400
TZOFFSETTO:-0500
TZNAME:EST
DTSTART:20291104T060000
END:STANDARD
BEGIN:DAYLIGHT
TZOFFSETFROM:-0500
TZOFFSETTO:-0400
TZNAME:EDT
DTSTART:20300310T070000
END:DAYLIGHT
BEGIN:STANDARD
TZOFFSETFROM:-0400
TZOFFSETTO:-0500
TZNAME:EST
DTSTART:20301103T060000
END:STANDARD
END:VTIMEZONE
BEGIN:VEVENT
DTSTART;TZID=America/New_York:20270301T150000
DTEND;TZID=America/New_York:20270301T170000
DTSTAMP:20260423T140516
CREATED:20251224T200725Z
LAST-MODIFIED:20251224T200725Z
UID:10005608-1803913200-1803920400@dataw.art
SUMMARY:Board Meeting - 3-5 pm
DESCRIPTION:VAC Board Meeting meets on the first Monday of every month\, except in January\, July\, and August.
URL:https://dataw.art/event/board-meeting-3pm-2-2/2027-03-01/
LOCATION:CC arts and crafts room
ORGANIZER;CN="Linda Stevens-Sloan":MAILTO:llindastevenssloan@gmail.com
END:VEVENT
BEGIN:VEVENT
DTSTART;TZID=America/New_York:20270405T150000
DTEND;TZID=America/New_York:20270405T170000
DTSTAMP:20260423T140516
CREATED:20251224T200725Z
LAST-MODIFIED:20251224T200725Z
UID:10005609-1806937200-1806944400@dataw.art
SUMMARY:Board Meeting - 3-5 pm
DESCRIPTION:VAC Board Meeting meets on the first Monday of every month\, except in January\, July\, and August.
URL:https://dataw.art/event/board-meeting-3pm-2-2/2027-04-05/
LOCATION:CC arts and crafts room
ORGANIZER;CN="Linda Stevens-Sloan":MAILTO:llindastevenssloan@gmail.com
END:VEVENT
BEGIN:VEVENT
DTSTART;TZID=America/New_York:20270503T150000
DTEND;TZID=America/New_York:20270503T170000
DTSTAMP:20260423T140516
CREATED:20251224T200725Z
LAST-MODIFIED:20251224T200725Z
UID:10005610-1809356400-1809363600@dataw.art
SUMMARY:Board Meeting - 3-5 pm
DESCRIPTION:VAC Board Meeting meets on the first Monday of every month\, except in January\, July\, and August.
URL:https://dataw.art/event/board-meeting-3pm-2-2/2027-05-03/
LOCATION:CC arts and crafts room
ORGANIZER;CN="Linda Stevens-Sloan":MAILTO:llindastevenssloan@gmail.com
END:VEVENT
BEGIN:VEVENT
DTSTART;TZID=America/New_York:20270607T150000
DTEND;TZID=America/New_York:20270607T170000
DTSTAMP:20260423T140516
CREATED:20251224T200725Z
LAST-MODIFIED:20251224T200725Z
UID:10005611-1812380400-1812387600@dataw.art
SUMMARY:Board Meeting - 3-5 pm
DESCRIPTION:VAC Board Meeting meets on the first Monday of every month\, except in January\, July\, and August.
URL:https://dataw.art/event/board-meeting-3pm-2-2/2027-06-07/
LOCATION:CC arts and crafts room
ORGANIZER;CN="Linda Stevens-Sloan":MAILTO:llindastevenssloan@gmail.com
END:VEVENT
BEGIN:VEVENT
DTSTART;TZID=America/New_York:20270705T150000
DTEND;TZID=America/New_York:20270705T170000
DTSTAMP:20260423T140516
CREATED:20251224T200725Z
LAST-MODIFIED:20251224T200725Z
UID:10005612-1814799600-1814806800@dataw.art
SUMMARY:Board Meeting - 3-5 pm
DESCRIPTION:VAC Board Meeting meets on the first Monday of every month\, except in January\, July\, and August.
URL:https://dataw.art/event/board-meeting-3pm-2-2/2027-07-05/
LOCATION:CC arts and crafts room
ORGANIZER;CN="Linda Stevens-Sloan":MAILTO:llindastevenssloan@gmail.com
END:VEVENT
BEGIN:VEVENT
DTSTART;TZID=America/New_York:20270802T150000
DTEND;TZID=America/New_York:20270802T170000
DTSTAMP:20260423T140516
CREATED:20251224T200725Z
LAST-MODIFIED:20251224T200725Z
UID:10005613-1817218800-1817226000@dataw.art
SUMMARY:Board Meeting - 3-5 pm
DESCRIPTION:VAC Board Meeting meets on the first Monday of every month\, except in January\, July\, and August.
URL:https://dataw.art/event/board-meeting-3pm-2-2/2027-08-02/
LOCATION:CC arts and crafts room
ORGANIZER;CN="Linda Stevens-Sloan":MAILTO:llindastevenssloan@gmail.com
END:VEVENT
BEGIN:VEVENT
DTSTART;TZID=America/New_York:20270906T150000
DTEND;TZID=America/New_York:20270906T170000
DTSTAMP:20260423T140516
CREATED:20251224T200725Z
LAST-MODIFIED:20251224T200725Z
UID:10005614-1820242800-1820250000@dataw.art
SUMMARY:Board Meeting - 3-5 pm
DESCRIPTION:VAC Board Meeting meets on the first Monday of every month\, except in January\, July\, and August.
URL:https://dataw.art/event/board-meeting-3pm-2-2/2027-09-06/
LOCATION:CC arts and crafts room
ORGANIZER;CN="Linda Stevens-Sloan":MAILTO:llindastevenssloan@gmail.com
END:VEVENT
BEGIN:VEVENT
DTSTART;TZID=America/New_York:20271004T150000
DTEND;TZID=America/New_York:20271004T170000
DTSTAMP:20260423T140516
CREATED:20251224T200725Z
LAST-MODIFIED:20251224T200725Z
UID:10005615-1822662000-1822669200@dataw.art
SUMMARY:Board Meeting - 3-5 pm
DESCRIPTION:VAC Board Meeting meets on the first Monday of every month\, except in January\, July\, and August.
URL:https://dataw.art/event/board-meeting-3pm-2-2/2027-10-04/
LOCATION:CC arts and crafts room
ORGANIZER;CN="Linda Stevens-Sloan":MAILTO:llindastevenssloan@gmail.com
END:VEVENT
BEGIN:VEVENT
DTSTART;TZID=America/New_York:20271101T150000
DTEND;TZID=America/New_York:20271101T170000
DTSTAMP:20260423T140516
CREATED:20251224T200725Z
LAST-MODIFIED:20251224T200725Z
UID:10005616-1825081200-1825088400@dataw.art
SUMMARY:Board Meeting - 3-5 pm
DESCRIPTION:VAC Board Meeting meets on the first Monday of every month\, except in January\, July\, and August.
URL:https://dataw.art/event/board-meeting-3pm-2-2/2027-11-01/
LOCATION:CC arts and crafts room
ORGANIZER;CN="Linda Stevens-Sloan":MAILTO:llindastevenssloan@gmail.com
END:VEVENT
BEGIN:VEVENT
DTSTART;TZID=America/New_York:20271206T150000
DTEND;TZID=America/New_York:20271206T170000
DTSTAMP:20260423T140516
CREATED:20251224T200725Z
LAST-MODIFIED:20251224T200725Z
UID:10005617-1828105200-1828112400@dataw.art
SUMMARY:Board Meeting - 3-5 pm
DESCRIPTION:VAC Board Meeting meets on the first Monday of every month\, except in January\, July\, and August.
URL:https://dataw.art/event/board-meeting-3pm-2-2/2027-12-06/
LOCATION:CC arts and crafts room
ORGANIZER;CN="Linda Stevens-Sloan":MAILTO:llindastevenssloan@gmail.com
END:VEVENT
BEGIN:VEVENT
DTSTART;TZID=America/New_York:20280103T150000
DTEND;TZID=America/New_York:20280103T170000
DTSTAMP:20260423T140516
CREATED:20251224T200725Z
LAST-MODIFIED:20251224T200725Z
UID:10005618-1830524400-1830531600@dataw.art
SUMMARY:Board Meeting - 3-5 pm
DESCRIPTION:VAC Board Meeting meets on the first Monday of every month\, except in January\, July\, and August.
URL:https://dataw.art/event/board-meeting-3pm-2-2/2028-01-03/
LOCATION:CC arts and crafts room
ORGANIZER;CN="Linda Stevens-Sloan":MAILTO:llindastevenssloan@gmail.com
END:VEVENT
BEGIN:VEVENT
DTSTART;TZID=America/New_York:20280207T150000
DTEND;TZID=America/New_York:20280207T170000
DTSTAMP:20260423T140516
CREATED:20251224T200725Z
LAST-MODIFIED:20251224T200725Z
UID:10005619-1833548400-1833555600@dataw.art
SUMMARY:Board Meeting - 3-5 pm
DESCRIPTION:VAC Board Meeting meets on the first Monday of every month\, except in January\, July\, and August.
URL:https://dataw.art/event/board-meeting-3pm-2-2/2028-02-07/
LOCATION:CC arts and crafts room
ORGANIZER;CN="Linda Stevens-Sloan":MAILTO:llindastevenssloan@gmail.com
END:VEVENT
BEGIN:VEVENT
DTSTART;TZID=America/New_York:20280306T150000
DTEND;TZID=America/New_York:20280306T170000
DTSTAMP:20260423T140516
CREATED:20251224T200725Z
LAST-MODIFIED:20251224T200725Z
UID:10005620-1835967600-1835974800@dataw.art
SUMMARY:Board Meeting - 3-5 pm
DESCRIPTION:VAC Board Meeting meets on the first Monday of every month\, except in January\, July\, and August.
URL:https://dataw.art/event/board-meeting-3pm-2-2/2028-03-06/
LOCATION:CC arts and crafts room
ORGANIZER;CN="Linda Stevens-Sloan":MAILTO:llindastevenssloan@gmail.com
END:VEVENT
BEGIN:VEVENT
DTSTART;TZID=America/New_York:20280403T150000
DTEND;TZID=America/New_York:20280403T170000
DTSTAMP:20260423T140516
CREATED:20251224T200725Z
LAST-MODIFIED:20251224T200725Z
UID:10005621-1838386800-1838394000@dataw.art
SUMMARY:Board Meeting - 3-5 pm
DESCRIPTION:VAC Board Meeting meets on the first Monday of every month\, except in January\, July\, and August.
URL:https://dataw.art/event/board-meeting-3pm-2-2/2028-04-03/
LOCATION:CC arts and crafts room
ORGANIZER;CN="Linda Stevens-Sloan":MAILTO:llindastevenssloan@gmail.com
END:VEVENT
BEGIN:VEVENT
DTSTART;TZID=America/New_York:20280501T150000
DTEND;TZID=America/New_York:20280501T170000
DTSTAMP:20260423T140516
CREATED:20251224T200725Z
LAST-MODIFIED:20251224T200725Z
UID:10005622-1840806000-1840813200@dataw.art
SUMMARY:Board Meeting - 3-5 pm
DESCRIPTION:VAC Board Meeting meets on the first Monday of every month\, except in January\, July\, and August.
URL:https://dataw.art/event/board-meeting-3pm-2-2/2028-05-01/
LOCATION:CC arts and crafts room
ORGANIZER;CN="Linda Stevens-Sloan":MAILTO:llindastevenssloan@gmail.com
END:VEVENT
BEGIN:VEVENT
DTSTART;TZID=America/New_York:20280605T150000
DTEND;TZID=America/New_York:20280605T170000
DTSTAMP:20260423T140516
CREATED:20251224T200725Z
LAST-MODIFIED:20251224T200725Z
UID:10005623-1843830000-1843837200@dataw.art
SUMMARY:Board Meeting - 3-5 pm
DESCRIPTION:VAC Board Meeting meets on the first Monday of every month\, except in January\, July\, and August.
URL:https://dataw.art/event/board-meeting-3pm-2-2/2028-06-05/
LOCATION:CC arts and crafts room
ORGANIZER;CN="Linda Stevens-Sloan":MAILTO:llindastevenssloan@gmail.com
END:VEVENT
BEGIN:VEVENT
DTSTART;TZID=America/New_York:20280703T150000
DTEND;TZID=America/New_York:20280703T170000
DTSTAMP:20260423T140516
CREATED:20251224T200725Z
LAST-MODIFIED:20251224T200725Z
UID:10005624-1846249200-1846256400@dataw.art
SUMMARY:Board Meeting - 3-5 pm
DESCRIPTION:VAC Board Meeting meets on the first Monday of every month\, except in January\, July\, and August.
URL:https://dataw.art/event/board-meeting-3pm-2-2/2028-07-03/
LOCATION:CC arts and crafts room
ORGANIZER;CN="Linda Stevens-Sloan":MAILTO:llindastevenssloan@gmail.com
END:VEVENT
BEGIN:VEVENT
DTSTART;TZID=America/New_York:20280807T150000
DTEND;TZID=America/New_York:20280807T170000
DTSTAMP:20260423T140516
CREATED:20251224T200725Z
LAST-MODIFIED:20251224T200725Z
UID:10005625-1849273200-1849280400@dataw.art
SUMMARY:Board Meeting - 3-5 pm
DESCRIPTION:VAC Board Meeting meets on the first Monday of every month\, except in January\, July\, and August.
URL:https://dataw.art/event/board-meeting-3pm-2-2/2028-08-07/
LOCATION:CC arts and crafts room
ORGANIZER;CN="Linda Stevens-Sloan":MAILTO:llindastevenssloan@gmail.com
END:VEVENT
BEGIN:VEVENT
DTSTART;TZID=America/New_York:20280904T150000
DTEND;TZID=America/New_York:20280904T170000
DTSTAMP:20260423T140516
CREATED:20251224T200725Z
LAST-MODIFIED:20251224T200725Z
UID:10005626-1851692400-1851699600@dataw.art
SUMMARY:Board Meeting - 3-5 pm
DESCRIPTION:VAC Board Meeting meets on the first Monday of every month\, except in January\, July\, and August.
URL:https://dataw.art/event/board-meeting-3pm-2-2/2028-09-04/
LOCATION:CC arts and crafts room
ORGANIZER;CN="Linda Stevens-Sloan":MAILTO:llindastevenssloan@gmail.com
END:VEVENT
BEGIN:VEVENT
DTSTART;TZID=America/New_York:20281002T150000
DTEND;TZID=America/New_York:20281002T170000
DTSTAMP:20260423T140516
CREATED:20251224T200725Z
LAST-MODIFIED:20251224T200725Z
UID:10005627-1854111600-1854118800@dataw.art
SUMMARY:Board Meeting - 3-5 pm
DESCRIPTION:VAC Board Meeting meets on the first Monday of every month\, except in January\, July\, and August.
URL:https://dataw.art/event/board-meeting-3pm-2-2/2028-10-02/
LOCATION:CC arts and crafts room
ORGANIZER;CN="Linda Stevens-Sloan":MAILTO:llindastevenssloan@gmail.com
END:VEVENT
BEGIN:VEVENT
DTSTART;TZID=America/New_York:20281106T150000
DTEND;TZID=America/New_York:20281106T170000
DTSTAMP:20260423T140516
CREATED:20251224T200725Z
LAST-MODIFIED:20251224T200725Z
UID:10005628-1857135600-1857142800@dataw.art
SUMMARY:Board Meeting - 3-5 pm
DESCRIPTION:VAC Board Meeting meets on the first Monday of every month\, except in January\, July\, and August.
URL:https://dataw.art/event/board-meeting-3pm-2-2/2028-11-06/
LOCATION:CC arts and crafts room
ORGANIZER;CN="Linda Stevens-Sloan":MAILTO:llindastevenssloan@gmail.com
END:VEVENT
BEGIN:VEVENT
DTSTART;TZID=America/New_York:20281204T150000
DTEND;TZID=America/New_York:20281204T170000
DTSTAMP:20260423T140516
CREATED:20251224T200725Z
LAST-MODIFIED:20251224T200725Z
UID:10005629-1859554800-1859562000@dataw.art
SUMMARY:Board Meeting - 3-5 pm
DESCRIPTION:VAC Board Meeting meets on the first Monday of every month\, except in January\, July\, and August.
URL:https://dataw.art/event/board-meeting-3pm-2-2/2028-12-04/
LOCATION:CC arts and crafts room
ORGANIZER;CN="Linda Stevens-Sloan":MAILTO:llindastevenssloan@gmail.com
END:VEVENT
BEGIN:VEVENT
DTSTART;TZID=America/New_York:20290101T150000
DTEND;TZID=America/New_York:20290101T170000
DTSTAMP:20260423T140516
CREATED:20251224T200725Z
LAST-MODIFIED:20251224T200725Z
UID:10005630-1861974000-1861981200@dataw.art
SUMMARY:Board Meeting - 3-5 pm
DESCRIPTION:VAC Board Meeting meets on the first Monday of every month\, except in January\, July\, and August.
URL:https://dataw.art/event/board-meeting-3pm-2-2/2029-01-01/
LOCATION:CC arts and crafts room
ORGANIZER;CN="Linda Stevens-Sloan":MAILTO:llindastevenssloan@gmail.com
END:VEVENT
BEGIN:VEVENT
DTSTART;TZID=America/New_York:20290205T150000
DTEND;TZID=America/New_York:20290205T170000
DTSTAMP:20260423T140516
CREATED:20251224T200725Z
LAST-MODIFIED:20251224T200725Z
UID:10005631-1864998000-1865005200@dataw.art
SUMMARY:Board Meeting - 3-5 pm
DESCRIPTION:VAC Board Meeting meets on the first Monday of every month\, except in January\, July\, and August.
URL:https://dataw.art/event/board-meeting-3pm-2-2/2029-02-05/
LOCATION:CC arts and crafts room
ORGANIZER;CN="Linda Stevens-Sloan":MAILTO:llindastevenssloan@gmail.com
END:VEVENT
BEGIN:VEVENT
DTSTART;TZID=America/New_York:20290305T150000
DTEND;TZID=America/New_York:20290305T170000
DTSTAMP:20260423T140516
CREATED:20251224T200725Z
LAST-MODIFIED:20251224T200725Z
UID:10005632-1867417200-1867424400@dataw.art
SUMMARY:Board Meeting - 3-5 pm
DESCRIPTION:VAC Board Meeting meets on the first Monday of every month\, except in January\, July\, and August.
URL:https://dataw.art/event/board-meeting-3pm-2-2/2029-03-05/
LOCATION:CC arts and crafts room
ORGANIZER;CN="Linda Stevens-Sloan":MAILTO:llindastevenssloan@gmail.com
END:VEVENT
BEGIN:VEVENT
DTSTART;TZID=America/New_York:20290402T150000
DTEND;TZID=America/New_York:20290402T170000
DTSTAMP:20260423T140516
CREATED:20251224T200725Z
LAST-MODIFIED:20251224T200725Z
UID:10005633-1869836400-1869843600@dataw.art
SUMMARY:Board Meeting - 3-5 pm
DESCRIPTION:VAC Board Meeting meets on the first Monday of every month\, except in January\, July\, and August.
URL:https://dataw.art/event/board-meeting-3pm-2-2/2029-04-02/
LOCATION:CC arts and crafts room
ORGANIZER;CN="Linda Stevens-Sloan":MAILTO:llindastevenssloan@gmail.com
END:VEVENT
BEGIN:VEVENT
DTSTART;TZID=America/New_York:20290507T150000
DTEND;TZID=America/New_York:20290507T170000
DTSTAMP:20260423T140516
CREATED:20251224T200725Z
LAST-MODIFIED:20251224T200725Z
UID:10005634-1872860400-1872867600@dataw.art
SUMMARY:Board Meeting - 3-5 pm
DESCRIPTION:VAC Board Meeting meets on the first Monday of every month\, except in January\, July\, and August.
URL:https://dataw.art/event/board-meeting-3pm-2-2/2029-05-07/
LOCATION:CC arts and crafts room
ORGANIZER;CN="Linda Stevens-Sloan":MAILTO:llindastevenssloan@gmail.com
END:VEVENT
BEGIN:VEVENT
DTSTART;TZID=America/New_York:20290604T150000
DTEND;TZID=America/New_York:20290604T170000
DTSTAMP:20260423T140516
CREATED:20251224T200725Z
LAST-MODIFIED:20251224T200725Z
UID:10005635-1875279600-1875286800@dataw.art
SUMMARY:Board Meeting - 3-5 pm
DESCRIPTION:VAC Board Meeting meets on the first Monday of every month\, except in January\, July\, and August.
URL:https://dataw.art/event/board-meeting-3pm-2-2/2029-06-04/
LOCATION:CC arts and crafts room
ORGANIZER;CN="Linda Stevens-Sloan":MAILTO:llindastevenssloan@gmail.com
END:VEVENT
BEGIN:VEVENT
DTSTART;TZID=America/New_York:20290702T150000
DTEND;TZID=America/New_York:20290702T170000
DTSTAMP:20260423T140516
CREATED:20251224T200725Z
LAST-MODIFIED:20251224T200725Z
UID:10005636-1877698800-1877706000@dataw.art
SUMMARY:Board Meeting - 3-5 pm
DESCRIPTION:VAC Board Meeting meets on the first Monday of every month\, except in January\, July\, and August.
URL:https://dataw.art/event/board-meeting-3pm-2-2/2029-07-02/
LOCATION:CC arts and crafts room
ORGANIZER;CN="Linda Stevens-Sloan":MAILTO:llindastevenssloan@gmail.com
END:VEVENT
BEGIN:VEVENT
DTSTART;TZID=America/New_York:20290806T150000
DTEND;TZID=America/New_York:20290806T170000
DTSTAMP:20260423T140516
CREATED:20251224T200725Z
LAST-MODIFIED:20251224T200725Z
UID:10005637-1880722800-1880730000@dataw.art
SUMMARY:Board Meeting - 3-5 pm
DESCRIPTION:VAC Board Meeting meets on the first Monday of every month\, except in January\, July\, and August.
URL:https://dataw.art/event/board-meeting-3pm-2-2/2029-08-06/
LOCATION:CC arts and crafts room
ORGANIZER;CN="Linda Stevens-Sloan":MAILTO:llindastevenssloan@gmail.com
END:VEVENT
END:VCALENDAR