BEGIN:VCALENDAR
VERSION:2.0
PRODID:-//Dataw Visual Arts Club - ECPv6.15.20//NONSGML v1.0//EN
CALSCALE:GREGORIAN
METHOD:PUBLISH
X-ORIGINAL-URL:https://dataw.art
X-WR-CALDESC:Events for Dataw Visual Arts Club
REFRESH-INTERVAL;VALUE=DURATION:PT1H
X-Robots-Tag:noindex
X-PUBLISHED-TTL:PT1H
BEGIN:VTIMEZONE
TZID:America/New_York
BEGIN:DAYLIGHT
TZOFFSETFROM:-0500
TZOFFSETTO:-0400
TZNAME:EDT
DTSTART:20270314T070000
END:DAYLIGHT
BEGIN:STANDARD
TZOFFSETFROM:-0400
TZOFFSETTO:-0500
TZNAME:EST
DTSTART:20271107T060000
END:STANDARD
BEGIN:DAYLIGHT
TZOFFSETFROM:-0500
TZOFFSETTO:-0400
TZNAME:EDT
DTSTART:20280312T070000
END:DAYLIGHT
BEGIN:STANDARD
TZOFFSETFROM:-0400
TZOFFSETTO:-0500
TZNAME:EST
DTSTART:20281105T060000
END:STANDARD
BEGIN:DAYLIGHT
TZOFFSETFROM:-0500
TZOFFSETTO:-0400
TZNAME:EDT
DTSTART:20290311T070000
END:DAYLIGHT
BEGIN:STANDARD
TZOFFSETFROM:-0400
TZOFFSETTO:-0500
TZNAME:EST
DTSTART:20291104T060000
END:STANDARD
BEGIN:DAYLIGHT
TZOFFSETFROM:-0500
TZOFFSETTO:-0400
TZNAME:EDT
DTSTART:20300310T070000
END:DAYLIGHT
BEGIN:STANDARD
TZOFFSETFROM:-0400
TZOFFSETTO:-0500
TZNAME:EST
DTSTART:20301103T060000
END:STANDARD
BEGIN:DAYLIGHT
TZOFFSETFROM:-0500
TZOFFSETTO:-0400
TZNAME:EDT
DTSTART:20310309T070000
END:DAYLIGHT
BEGIN:STANDARD
TZOFFSETFROM:-0400
TZOFFSETTO:-0500
TZNAME:EST
DTSTART:20311102T060000
END:STANDARD
END:VTIMEZONE
BEGIN:VEVENT
DTSTART;TZID=America/New_York:20280111T140000
DTEND;TZID=America/New_York:20280111T160000
DTSTAMP:20260423T140803
CREATED:20250730T183758Z
LAST-MODIFIED:20260215T145405Z
UID:10005677-1831212000-1831219200@dataw.art
SUMMARY:Card Club Class 2-4pm
DESCRIPTION:Card Club Class 2nd Tuesday of every month.
URL:https://dataw.art/event/card-club-2-4pm-2-2023-01-10-2-2/2028-01-11/
LOCATION:CC arts and crafts room
CATEGORIES:Card Club Class
END:VEVENT
BEGIN:VEVENT
DTSTART;TZID=America/New_York:20280208T140000
DTEND;TZID=America/New_York:20280208T160000
DTSTAMP:20260423T140803
CREATED:20250730T183758Z
LAST-MODIFIED:20260215T145405Z
UID:10005678-1833631200-1833638400@dataw.art
SUMMARY:Card Club Class 2-4pm
DESCRIPTION:Card Club Class 2nd Tuesday of every month.
URL:https://dataw.art/event/card-club-2-4pm-2-2023-01-10-2-2/2028-02-08/
LOCATION:CC arts and crafts room
CATEGORIES:Card Club Class
END:VEVENT
BEGIN:VEVENT
DTSTART;TZID=America/New_York:20280314T140000
DTEND;TZID=America/New_York:20280314T160000
DTSTAMP:20260423T140803
CREATED:20250730T183758Z
LAST-MODIFIED:20260215T145405Z
UID:10005679-1836655200-1836662400@dataw.art
SUMMARY:Card Club Class 2-4pm
DESCRIPTION:Card Club Class 2nd Tuesday of every month.
URL:https://dataw.art/event/card-club-2-4pm-2-2023-01-10-2-2/2028-03-14/
LOCATION:CC arts and crafts room
CATEGORIES:Card Club Class
END:VEVENT
BEGIN:VEVENT
DTSTART;TZID=America/New_York:20280411T140000
DTEND;TZID=America/New_York:20280411T160000
DTSTAMP:20260423T140803
CREATED:20250730T183758Z
LAST-MODIFIED:20260215T145405Z
UID:10005680-1839074400-1839081600@dataw.art
SUMMARY:Card Club Class 2-4pm
DESCRIPTION:Card Club Class 2nd Tuesday of every month.
URL:https://dataw.art/event/card-club-2-4pm-2-2023-01-10-2-2/2028-04-11/
LOCATION:CC arts and crafts room
CATEGORIES:Card Club Class
END:VEVENT
BEGIN:VEVENT
DTSTART;TZID=America/New_York:20280509T140000
DTEND;TZID=America/New_York:20280509T160000
DTSTAMP:20260423T140803
CREATED:20250730T183758Z
LAST-MODIFIED:20260215T145405Z
UID:10005681-1841493600-1841500800@dataw.art
SUMMARY:Card Club Class 2-4pm
DESCRIPTION:Card Club Class 2nd Tuesday of every month.
URL:https://dataw.art/event/card-club-2-4pm-2-2023-01-10-2-2/2028-05-09/
LOCATION:CC arts and crafts room
CATEGORIES:Card Club Class
END:VEVENT
BEGIN:VEVENT
DTSTART;TZID=America/New_York:20280613T140000
DTEND;TZID=America/New_York:20280613T160000
DTSTAMP:20260423T140803
CREATED:20250730T183758Z
LAST-MODIFIED:20260215T145405Z
UID:10005682-1844517600-1844524800@dataw.art
SUMMARY:Card Club Class 2-4pm
DESCRIPTION:Card Club Class 2nd Tuesday of every month.
URL:https://dataw.art/event/card-club-2-4pm-2-2023-01-10-2-2/2028-06-13/
LOCATION:CC arts and crafts room
CATEGORIES:Card Club Class
END:VEVENT
BEGIN:VEVENT
DTSTART;TZID=America/New_York:20280711T140000
DTEND;TZID=America/New_York:20280711T160000
DTSTAMP:20260423T140803
CREATED:20250730T183758Z
LAST-MODIFIED:20260215T145405Z
UID:10005683-1846936800-1846944000@dataw.art
SUMMARY:Card Club Class 2-4pm
DESCRIPTION:Card Club Class 2nd Tuesday of every month.
URL:https://dataw.art/event/card-club-2-4pm-2-2023-01-10-2-2/2028-07-11/
LOCATION:CC arts and crafts room
CATEGORIES:Card Club Class
END:VEVENT
BEGIN:VEVENT
DTSTART;TZID=America/New_York:20280808T140000
DTEND;TZID=America/New_York:20280808T160000
DTSTAMP:20260423T140803
CREATED:20250730T183758Z
LAST-MODIFIED:20260215T145405Z
UID:10005684-1849356000-1849363200@dataw.art
SUMMARY:Card Club Class 2-4pm
DESCRIPTION:Card Club Class 2nd Tuesday of every month.
URL:https://dataw.art/event/card-club-2-4pm-2-2023-01-10-2-2/2028-08-08/
LOCATION:CC arts and crafts room
CATEGORIES:Card Club Class
END:VEVENT
BEGIN:VEVENT
DTSTART;TZID=America/New_York:20280912T140000
DTEND;TZID=America/New_York:20280912T160000
DTSTAMP:20260423T140803
CREATED:20250730T183758Z
LAST-MODIFIED:20260215T145405Z
UID:10005685-1852380000-1852387200@dataw.art
SUMMARY:Card Club Class 2-4pm
DESCRIPTION:Card Club Class 2nd Tuesday of every month.
URL:https://dataw.art/event/card-club-2-4pm-2-2023-01-10-2-2/2028-09-12/
LOCATION:CC arts and crafts room
CATEGORIES:Card Club Class
END:VEVENT
BEGIN:VEVENT
DTSTART;TZID=America/New_York:20281010T140000
DTEND;TZID=America/New_York:20281010T160000
DTSTAMP:20260423T140803
CREATED:20250730T183758Z
LAST-MODIFIED:20260215T145405Z
UID:10005686-1854799200-1854806400@dataw.art
SUMMARY:Card Club Class 2-4pm
DESCRIPTION:Card Club Class 2nd Tuesday of every month.
URL:https://dataw.art/event/card-club-2-4pm-2-2023-01-10-2-2/2028-10-10/
LOCATION:CC arts and crafts room
CATEGORIES:Card Club Class
END:VEVENT
BEGIN:VEVENT
DTSTART;TZID=America/New_York:20281114T140000
DTEND;TZID=America/New_York:20281114T160000
DTSTAMP:20260423T140803
CREATED:20250730T183758Z
LAST-MODIFIED:20260215T145405Z
UID:10005687-1857823200-1857830400@dataw.art
SUMMARY:Card Club Class 2-4pm
DESCRIPTION:Card Club Class 2nd Tuesday of every month.
URL:https://dataw.art/event/card-club-2-4pm-2-2023-01-10-2-2/2028-11-14/
LOCATION:CC arts and crafts room
CATEGORIES:Card Club Class
END:VEVENT
BEGIN:VEVENT
DTSTART;TZID=America/New_York:20281212T140000
DTEND;TZID=America/New_York:20281212T160000
DTSTAMP:20260423T140803
CREATED:20250730T183758Z
LAST-MODIFIED:20260215T145405Z
UID:10005688-1860242400-1860249600@dataw.art
SUMMARY:Card Club Class 2-4pm
DESCRIPTION:Card Club Class 2nd Tuesday of every month.
URL:https://dataw.art/event/card-club-2-4pm-2-2023-01-10-2-2/2028-12-12/
LOCATION:CC arts and crafts room
CATEGORIES:Card Club Class
END:VEVENT
BEGIN:VEVENT
DTSTART;TZID=America/New_York:20290109T140000
DTEND;TZID=America/New_York:20290109T160000
DTSTAMP:20260423T140803
CREATED:20250730T183758Z
LAST-MODIFIED:20260215T145405Z
UID:10005689-1862661600-1862668800@dataw.art
SUMMARY:Card Club Class 2-4pm
DESCRIPTION:Card Club Class 2nd Tuesday of every month.
URL:https://dataw.art/event/card-club-2-4pm-2-2023-01-10-2-2/2029-01-09/
LOCATION:CC arts and crafts room
CATEGORIES:Card Club Class
END:VEVENT
BEGIN:VEVENT
DTSTART;TZID=America/New_York:20290213T140000
DTEND;TZID=America/New_York:20290213T160000
DTSTAMP:20260423T140803
CREATED:20250730T183758Z
LAST-MODIFIED:20260215T145405Z
UID:10005690-1865685600-1865692800@dataw.art
SUMMARY:Card Club Class 2-4pm
DESCRIPTION:Card Club Class 2nd Tuesday of every month.
URL:https://dataw.art/event/card-club-2-4pm-2-2023-01-10-2-2/2029-02-13/
LOCATION:CC arts and crafts room
CATEGORIES:Card Club Class
END:VEVENT
BEGIN:VEVENT
DTSTART;TZID=America/New_York:20290313T140000
DTEND;TZID=America/New_York:20290313T160000
DTSTAMP:20260423T140803
CREATED:20250730T183758Z
LAST-MODIFIED:20260215T145405Z
UID:10005691-1868104800-1868112000@dataw.art
SUMMARY:Card Club Class 2-4pm
DESCRIPTION:Card Club Class 2nd Tuesday of every month.
URL:https://dataw.art/event/card-club-2-4pm-2-2023-01-10-2-2/2029-03-13/
LOCATION:CC arts and crafts room
CATEGORIES:Card Club Class
END:VEVENT
BEGIN:VEVENT
DTSTART;TZID=America/New_York:20290410T140000
DTEND;TZID=America/New_York:20290410T160000
DTSTAMP:20260423T140803
CREATED:20250730T183758Z
LAST-MODIFIED:20260215T145405Z
UID:10005692-1870524000-1870531200@dataw.art
SUMMARY:Card Club Class 2-4pm
DESCRIPTION:Card Club Class 2nd Tuesday of every month.
URL:https://dataw.art/event/card-club-2-4pm-2-2023-01-10-2-2/2029-04-10/
LOCATION:CC arts and crafts room
CATEGORIES:Card Club Class
END:VEVENT
BEGIN:VEVENT
DTSTART;TZID=America/New_York:20290508T140000
DTEND;TZID=America/New_York:20290508T160000
DTSTAMP:20260423T140803
CREATED:20250730T183758Z
LAST-MODIFIED:20260215T145405Z
UID:10005693-1872943200-1872950400@dataw.art
SUMMARY:Card Club Class 2-4pm
DESCRIPTION:Card Club Class 2nd Tuesday of every month.
URL:https://dataw.art/event/card-club-2-4pm-2-2023-01-10-2-2/2029-05-08/
LOCATION:CC arts and crafts room
CATEGORIES:Card Club Class
END:VEVENT
BEGIN:VEVENT
DTSTART;TZID=America/New_York:20290612T140000
DTEND;TZID=America/New_York:20290612T160000
DTSTAMP:20260423T140803
CREATED:20250730T183758Z
LAST-MODIFIED:20260215T145405Z
UID:10005694-1875967200-1875974400@dataw.art
SUMMARY:Card Club Class 2-4pm
DESCRIPTION:Card Club Class 2nd Tuesday of every month.
URL:https://dataw.art/event/card-club-2-4pm-2-2023-01-10-2-2/2029-06-12/
LOCATION:CC arts and crafts room
CATEGORIES:Card Club Class
END:VEVENT
BEGIN:VEVENT
DTSTART;TZID=America/New_York:20290710T140000
DTEND;TZID=America/New_York:20290710T160000
DTSTAMP:20260423T140803
CREATED:20250730T183758Z
LAST-MODIFIED:20260215T145405Z
UID:10005695-1878386400-1878393600@dataw.art
SUMMARY:Card Club Class 2-4pm
DESCRIPTION:Card Club Class 2nd Tuesday of every month.
URL:https://dataw.art/event/card-club-2-4pm-2-2023-01-10-2-2/2029-07-10/
LOCATION:CC arts and crafts room
CATEGORIES:Card Club Class
END:VEVENT
BEGIN:VEVENT
DTSTART;TZID=America/New_York:20290814T140000
DTEND;TZID=America/New_York:20290814T160000
DTSTAMP:20260423T140803
CREATED:20250730T183758Z
LAST-MODIFIED:20260215T145405Z
UID:10005696-1881410400-1881417600@dataw.art
SUMMARY:Card Club Class 2-4pm
DESCRIPTION:Card Club Class 2nd Tuesday of every month.
URL:https://dataw.art/event/card-club-2-4pm-2-2023-01-10-2-2/2029-08-14/
LOCATION:CC arts and crafts room
CATEGORIES:Card Club Class
END:VEVENT
BEGIN:VEVENT
DTSTART;TZID=America/New_York:20290911T140000
DTEND;TZID=America/New_York:20290911T160000
DTSTAMP:20260423T140803
CREATED:20250730T183758Z
LAST-MODIFIED:20260215T145405Z
UID:10005697-1883829600-1883836800@dataw.art
SUMMARY:Card Club Class 2-4pm
DESCRIPTION:Card Club Class 2nd Tuesday of every month.
URL:https://dataw.art/event/card-club-2-4pm-2-2023-01-10-2-2/2029-09-11/
LOCATION:CC arts and crafts room
CATEGORIES:Card Club Class
END:VEVENT
BEGIN:VEVENT
DTSTART;TZID=America/New_York:20291009T140000
DTEND;TZID=America/New_York:20291009T160000
DTSTAMP:20260423T140803
CREATED:20250730T183758Z
LAST-MODIFIED:20260215T145405Z
UID:10005698-1886248800-1886256000@dataw.art
SUMMARY:Card Club Class 2-4pm
DESCRIPTION:Card Club Class 2nd Tuesday of every month.
URL:https://dataw.art/event/card-club-2-4pm-2-2023-01-10-2-2/2029-10-09/
LOCATION:CC arts and crafts room
CATEGORIES:Card Club Class
END:VEVENT
BEGIN:VEVENT
DTSTART;TZID=America/New_York:20291113T140000
DTEND;TZID=America/New_York:20291113T160000
DTSTAMP:20260423T140803
CREATED:20250730T183758Z
LAST-MODIFIED:20260215T145405Z
UID:10005699-1889272800-1889280000@dataw.art
SUMMARY:Card Club Class 2-4pm
DESCRIPTION:Card Club Class 2nd Tuesday of every month.
URL:https://dataw.art/event/card-club-2-4pm-2-2023-01-10-2-2/2029-11-13/
LOCATION:CC arts and crafts room
CATEGORIES:Card Club Class
END:VEVENT
BEGIN:VEVENT
DTSTART;TZID=America/New_York:20291211T140000
DTEND;TZID=America/New_York:20291211T160000
DTSTAMP:20260423T140803
CREATED:20250730T183758Z
LAST-MODIFIED:20260215T145405Z
UID:10005700-1891692000-1891699200@dataw.art
SUMMARY:Card Club Class 2-4pm
DESCRIPTION:Card Club Class 2nd Tuesday of every month.
URL:https://dataw.art/event/card-club-2-4pm-2-2023-01-10-2-2/2029-12-11/
LOCATION:CC arts and crafts room
CATEGORIES:Card Club Class
END:VEVENT
BEGIN:VEVENT
DTSTART;TZID=America/New_York:20300108T140000
DTEND;TZID=America/New_York:20300108T160000
DTSTAMP:20260423T140803
CREATED:20250730T183758Z
LAST-MODIFIED:20260215T145405Z
UID:10005701-1894111200-1894118400@dataw.art
SUMMARY:Card Club Class 2-4pm
DESCRIPTION:Card Club Class 2nd Tuesday of every month.
URL:https://dataw.art/event/card-club-2-4pm-2-2023-01-10-2-2/2030-01-08/
LOCATION:CC arts and crafts room
CATEGORIES:Card Club Class
END:VEVENT
BEGIN:VEVENT
DTSTART;TZID=America/New_York:20300212T140000
DTEND;TZID=America/New_York:20300212T160000
DTSTAMP:20260423T140803
CREATED:20250730T183758Z
LAST-MODIFIED:20260215T145405Z
UID:10005702-1897135200-1897142400@dataw.art
SUMMARY:Card Club Class 2-4pm
DESCRIPTION:Card Club Class 2nd Tuesday of every month.
URL:https://dataw.art/event/card-club-2-4pm-2-2023-01-10-2-2/2030-02-12/
LOCATION:CC arts and crafts room
CATEGORIES:Card Club Class
END:VEVENT
BEGIN:VEVENT
DTSTART;TZID=America/New_York:20300312T140000
DTEND;TZID=America/New_York:20300312T160000
DTSTAMP:20260423T140803
CREATED:20250730T183758Z
LAST-MODIFIED:20260215T145405Z
UID:10005787-1899554400-1899561600@dataw.art
SUMMARY:Card Club Class 2-4pm
DESCRIPTION:Card Club Class 2nd Tuesday of every month.
URL:https://dataw.art/event/card-club-2-4pm-2-2023-01-10-2-2/2030-03-12/
LOCATION:CC arts and crafts room
CATEGORIES:Card Club Class
END:VEVENT
BEGIN:VEVENT
DTSTART;TZID=America/New_York:20300409T140000
DTEND;TZID=America/New_York:20300409T160000
DTSTAMP:20260423T140803
CREATED:20250730T183758Z
LAST-MODIFIED:20260215T145405Z
UID:10005788-1901973600-1901980800@dataw.art
SUMMARY:Card Club Class 2-4pm
DESCRIPTION:Card Club Class 2nd Tuesday of every month.
URL:https://dataw.art/event/card-club-2-4pm-2-2023-01-10-2-2/2030-04-09/
LOCATION:CC arts and crafts room
CATEGORIES:Card Club Class
END:VEVENT
BEGIN:VEVENT
DTSTART;TZID=America/New_York:20300514T140000
DTEND;TZID=America/New_York:20300514T160000
DTSTAMP:20260423T140803
CREATED:20250730T183758Z
LAST-MODIFIED:20260215T145405Z
UID:10005789-1904997600-1905004800@dataw.art
SUMMARY:Card Club Class 2-4pm
DESCRIPTION:Card Club Class 2nd Tuesday of every month.
URL:https://dataw.art/event/card-club-2-4pm-2-2023-01-10-2-2/2030-05-14/
LOCATION:CC arts and crafts room
CATEGORIES:Card Club Class
END:VEVENT
BEGIN:VEVENT
DTSTART;TZID=America/New_York:20300611T140000
DTEND;TZID=America/New_York:20300611T160000
DTSTAMP:20260423T140803
CREATED:20250730T183758Z
LAST-MODIFIED:20260215T145405Z
UID:10005790-1907416800-1907424000@dataw.art
SUMMARY:Card Club Class 2-4pm
DESCRIPTION:Card Club Class 2nd Tuesday of every month.
URL:https://dataw.art/event/card-club-2-4pm-2-2023-01-10-2-2/2030-06-11/
LOCATION:CC arts and crafts room
CATEGORIES:Card Club Class
END:VEVENT
END:VCALENDAR