BEGIN:VCALENDAR
VERSION:2.0
PRODID:-//Dataw Visual Arts Club - ECPv6.15.20//NONSGML v1.0//EN
CALSCALE:GREGORIAN
METHOD:PUBLISH
X-ORIGINAL-URL:https://dataw.art
X-WR-CALDESC:Events for Dataw Visual Arts Club
REFRESH-INTERVAL;VALUE=DURATION:PT1H
X-Robots-Tag:noindex
X-PUBLISHED-TTL:PT1H
BEGIN:VTIMEZONE
TZID:America/New_York
BEGIN:DAYLIGHT
TZOFFSETFROM:-0500
TZOFFSETTO:-0400
TZNAME:EDT
DTSTART:20270314T070000
END:DAYLIGHT
BEGIN:STANDARD
TZOFFSETFROM:-0400
TZOFFSETTO:-0500
TZNAME:EST
DTSTART:20271107T060000
END:STANDARD
BEGIN:DAYLIGHT
TZOFFSETFROM:-0500
TZOFFSETTO:-0400
TZNAME:EDT
DTSTART:20280312T070000
END:DAYLIGHT
BEGIN:STANDARD
TZOFFSETFROM:-0400
TZOFFSETTO:-0500
TZNAME:EST
DTSTART:20281105T060000
END:STANDARD
BEGIN:DAYLIGHT
TZOFFSETFROM:-0500
TZOFFSETTO:-0400
TZNAME:EDT
DTSTART:20290311T070000
END:DAYLIGHT
BEGIN:STANDARD
TZOFFSETFROM:-0400
TZOFFSETTO:-0500
TZNAME:EST
DTSTART:20291104T060000
END:STANDARD
BEGIN:DAYLIGHT
TZOFFSETFROM:-0500
TZOFFSETTO:-0400
TZNAME:EDT
DTSTART:20300310T070000
END:DAYLIGHT
BEGIN:STANDARD
TZOFFSETFROM:-0400
TZOFFSETTO:-0500
TZNAME:EST
DTSTART:20301103T060000
END:STANDARD
BEGIN:DAYLIGHT
TZOFFSETFROM:-0500
TZOFFSETTO:-0400
TZNAME:EDT
DTSTART:20310309T070000
END:DAYLIGHT
BEGIN:STANDARD
TZOFFSETFROM:-0400
TZOFFSETTO:-0500
TZNAME:EST
DTSTART:20311102T060000
END:STANDARD
END:VTIMEZONE
BEGIN:VEVENT
DTSTART;TZID=America/New_York:20280118T190000
DTEND;TZID=America/New_York:20280118T210000
DTSTAMP:20260423T185049
CREATED:20250730T184046Z
LAST-MODIFIED:20260215T145319Z
UID:10005377-1831834800-1831842000@dataw.art
SUMMARY:Card Club Open Studio 7pm - 9pm
DESCRIPTION:Card Club Open Studio 3rd Tuesday of every month.
URL:https://dataw.art/event/card-club-open-studio-7-9-pm-2-2-2-2/2028-01-18/
LOCATION:CC arts and crafts room
CATEGORIES:Card Club
END:VEVENT
BEGIN:VEVENT
DTSTART;TZID=America/New_York:20280215T190000
DTEND;TZID=America/New_York:20280215T210000
DTSTAMP:20260423T185049
CREATED:20250730T184046Z
LAST-MODIFIED:20260215T145319Z
UID:10005378-1834254000-1834261200@dataw.art
SUMMARY:Card Club Open Studio 7pm - 9pm
DESCRIPTION:Card Club Open Studio 3rd Tuesday of every month.
URL:https://dataw.art/event/card-club-open-studio-7-9-pm-2-2-2-2/2028-02-15/
LOCATION:CC arts and crafts room
CATEGORIES:Card Club
END:VEVENT
BEGIN:VEVENT
DTSTART;TZID=America/New_York:20280321T190000
DTEND;TZID=America/New_York:20280321T210000
DTSTAMP:20260423T185049
CREATED:20250730T184046Z
LAST-MODIFIED:20260215T145319Z
UID:10005379-1837278000-1837285200@dataw.art
SUMMARY:Card Club Open Studio 7pm - 9pm
DESCRIPTION:Card Club Open Studio 3rd Tuesday of every month.
URL:https://dataw.art/event/card-club-open-studio-7-9-pm-2-2-2-2/2028-03-21/
LOCATION:CC arts and crafts room
CATEGORIES:Card Club
END:VEVENT
BEGIN:VEVENT
DTSTART;TZID=America/New_York:20280418T190000
DTEND;TZID=America/New_York:20280418T210000
DTSTAMP:20260423T185049
CREATED:20250730T184046Z
LAST-MODIFIED:20260215T145319Z
UID:10005380-1839697200-1839704400@dataw.art
SUMMARY:Card Club Open Studio 7pm - 9pm
DESCRIPTION:Card Club Open Studio 3rd Tuesday of every month.
URL:https://dataw.art/event/card-club-open-studio-7-9-pm-2-2-2-2/2028-04-18/
LOCATION:CC arts and crafts room
CATEGORIES:Card Club
END:VEVENT
BEGIN:VEVENT
DTSTART;TZID=America/New_York:20280516T190000
DTEND;TZID=America/New_York:20280516T210000
DTSTAMP:20260423T185049
CREATED:20250730T184046Z
LAST-MODIFIED:20260215T145319Z
UID:10005381-1842116400-1842123600@dataw.art
SUMMARY:Card Club Open Studio 7pm - 9pm
DESCRIPTION:Card Club Open Studio 3rd Tuesday of every month.
URL:https://dataw.art/event/card-club-open-studio-7-9-pm-2-2-2-2/2028-05-16/
LOCATION:CC arts and crafts room
CATEGORIES:Card Club
END:VEVENT
BEGIN:VEVENT
DTSTART;TZID=America/New_York:20280620T190000
DTEND;TZID=America/New_York:20280620T210000
DTSTAMP:20260423T185049
CREATED:20250730T184046Z
LAST-MODIFIED:20260215T145319Z
UID:10005382-1845140400-1845147600@dataw.art
SUMMARY:Card Club Open Studio 7pm - 9pm
DESCRIPTION:Card Club Open Studio 3rd Tuesday of every month.
URL:https://dataw.art/event/card-club-open-studio-7-9-pm-2-2-2-2/2028-06-20/
LOCATION:CC arts and crafts room
CATEGORIES:Card Club
END:VEVENT
BEGIN:VEVENT
DTSTART;TZID=America/New_York:20280718T190000
DTEND;TZID=America/New_York:20280718T210000
DTSTAMP:20260423T185049
CREATED:20250730T184046Z
LAST-MODIFIED:20260215T145319Z
UID:10005383-1847559600-1847566800@dataw.art
SUMMARY:Card Club Open Studio 7pm - 9pm
DESCRIPTION:Card Club Open Studio 3rd Tuesday of every month.
URL:https://dataw.art/event/card-club-open-studio-7-9-pm-2-2-2-2/2028-07-18/
LOCATION:CC arts and crafts room
CATEGORIES:Card Club
END:VEVENT
BEGIN:VEVENT
DTSTART;TZID=America/New_York:20280815T190000
DTEND;TZID=America/New_York:20280815T210000
DTSTAMP:20260423T185049
CREATED:20250730T184046Z
LAST-MODIFIED:20260215T145319Z
UID:10005384-1849978800-1849986000@dataw.art
SUMMARY:Card Club Open Studio 7pm - 9pm
DESCRIPTION:Card Club Open Studio 3rd Tuesday of every month.
URL:https://dataw.art/event/card-club-open-studio-7-9-pm-2-2-2-2/2028-08-15/
LOCATION:CC arts and crafts room
CATEGORIES:Card Club
END:VEVENT
BEGIN:VEVENT
DTSTART;TZID=America/New_York:20280919T190000
DTEND;TZID=America/New_York:20280919T210000
DTSTAMP:20260423T185049
CREATED:20250730T184046Z
LAST-MODIFIED:20260215T145319Z
UID:10005385-1853002800-1853010000@dataw.art
SUMMARY:Card Club Open Studio 7pm - 9pm
DESCRIPTION:Card Club Open Studio 3rd Tuesday of every month.
URL:https://dataw.art/event/card-club-open-studio-7-9-pm-2-2-2-2/2028-09-19/
LOCATION:CC arts and crafts room
CATEGORIES:Card Club
END:VEVENT
BEGIN:VEVENT
DTSTART;TZID=America/New_York:20281017T190000
DTEND;TZID=America/New_York:20281017T210000
DTSTAMP:20260423T185049
CREATED:20250730T184046Z
LAST-MODIFIED:20260215T145319Z
UID:10005386-1855422000-1855429200@dataw.art
SUMMARY:Card Club Open Studio 7pm - 9pm
DESCRIPTION:Card Club Open Studio 3rd Tuesday of every month.
URL:https://dataw.art/event/card-club-open-studio-7-9-pm-2-2-2-2/2028-10-17/
LOCATION:CC arts and crafts room
CATEGORIES:Card Club
END:VEVENT
BEGIN:VEVENT
DTSTART;TZID=America/New_York:20281121T190000
DTEND;TZID=America/New_York:20281121T210000
DTSTAMP:20260423T185049
CREATED:20250730T184046Z
LAST-MODIFIED:20260215T145319Z
UID:10005387-1858446000-1858453200@dataw.art
SUMMARY:Card Club Open Studio 7pm - 9pm
DESCRIPTION:Card Club Open Studio 3rd Tuesday of every month.
URL:https://dataw.art/event/card-club-open-studio-7-9-pm-2-2-2-2/2028-11-21/
LOCATION:CC arts and crafts room
CATEGORIES:Card Club
END:VEVENT
BEGIN:VEVENT
DTSTART;TZID=America/New_York:20281219T190000
DTEND;TZID=America/New_York:20281219T210000
DTSTAMP:20260423T185049
CREATED:20250730T184046Z
LAST-MODIFIED:20260215T145319Z
UID:10005388-1860865200-1860872400@dataw.art
SUMMARY:Card Club Open Studio 7pm - 9pm
DESCRIPTION:Card Club Open Studio 3rd Tuesday of every month.
URL:https://dataw.art/event/card-club-open-studio-7-9-pm-2-2-2-2/2028-12-19/
LOCATION:CC arts and crafts room
CATEGORIES:Card Club
END:VEVENT
BEGIN:VEVENT
DTSTART;TZID=America/New_York:20290116T190000
DTEND;TZID=America/New_York:20290116T210000
DTSTAMP:20260423T185049
CREATED:20250730T184046Z
LAST-MODIFIED:20260215T145319Z
UID:10005558-1863284400-1863291600@dataw.art
SUMMARY:Card Club Open Studio 7pm - 9pm
DESCRIPTION:Card Club Open Studio 3rd Tuesday of every month.
URL:https://dataw.art/event/card-club-open-studio-7-9-pm-2-2-2-2/2029-01-16/
LOCATION:CC arts and crafts room
CATEGORIES:Card Club
END:VEVENT
BEGIN:VEVENT
DTSTART;TZID=America/New_York:20290220T190000
DTEND;TZID=America/New_York:20290220T210000
DTSTAMP:20260423T185049
CREATED:20250730T184046Z
LAST-MODIFIED:20260215T145319Z
UID:10005559-1866308400-1866315600@dataw.art
SUMMARY:Card Club Open Studio 7pm - 9pm
DESCRIPTION:Card Club Open Studio 3rd Tuesday of every month.
URL:https://dataw.art/event/card-club-open-studio-7-9-pm-2-2-2-2/2029-02-20/
LOCATION:CC arts and crafts room
CATEGORIES:Card Club
END:VEVENT
BEGIN:VEVENT
DTSTART;TZID=America/New_York:20290320T190000
DTEND;TZID=America/New_York:20290320T210000
DTSTAMP:20260423T185049
CREATED:20250730T184046Z
LAST-MODIFIED:20260215T145319Z
UID:10005560-1868727600-1868734800@dataw.art
SUMMARY:Card Club Open Studio 7pm - 9pm
DESCRIPTION:Card Club Open Studio 3rd Tuesday of every month.
URL:https://dataw.art/event/card-club-open-studio-7-9-pm-2-2-2-2/2029-03-20/
LOCATION:CC arts and crafts room
CATEGORIES:Card Club
END:VEVENT
BEGIN:VEVENT
DTSTART;TZID=America/New_York:20290417T190000
DTEND;TZID=America/New_York:20290417T210000
DTSTAMP:20260423T185049
CREATED:20250730T184046Z
LAST-MODIFIED:20260215T145319Z
UID:10005561-1871146800-1871154000@dataw.art
SUMMARY:Card Club Open Studio 7pm - 9pm
DESCRIPTION:Card Club Open Studio 3rd Tuesday of every month.
URL:https://dataw.art/event/card-club-open-studio-7-9-pm-2-2-2-2/2029-04-17/
LOCATION:CC arts and crafts room
CATEGORIES:Card Club
END:VEVENT
BEGIN:VEVENT
DTSTART;TZID=America/New_York:20290515T190000
DTEND;TZID=America/New_York:20290515T210000
DTSTAMP:20260423T185049
CREATED:20250730T184046Z
LAST-MODIFIED:20260215T145319Z
UID:10005562-1873566000-1873573200@dataw.art
SUMMARY:Card Club Open Studio 7pm - 9pm
DESCRIPTION:Card Club Open Studio 3rd Tuesday of every month.
URL:https://dataw.art/event/card-club-open-studio-7-9-pm-2-2-2-2/2029-05-15/
LOCATION:CC arts and crafts room
CATEGORIES:Card Club
END:VEVENT
BEGIN:VEVENT
DTSTART;TZID=America/New_York:20290619T190000
DTEND;TZID=America/New_York:20290619T210000
DTSTAMP:20260423T185049
CREATED:20250730T184046Z
LAST-MODIFIED:20260215T145319Z
UID:10005563-1876590000-1876597200@dataw.art
SUMMARY:Card Club Open Studio 7pm - 9pm
DESCRIPTION:Card Club Open Studio 3rd Tuesday of every month.
URL:https://dataw.art/event/card-club-open-studio-7-9-pm-2-2-2-2/2029-06-19/
LOCATION:CC arts and crafts room
CATEGORIES:Card Club
END:VEVENT
BEGIN:VEVENT
DTSTART;TZID=America/New_York:20290717T190000
DTEND;TZID=America/New_York:20290717T210000
DTSTAMP:20260423T185049
CREATED:20250730T184046Z
LAST-MODIFIED:20260215T145319Z
UID:10005564-1879009200-1879016400@dataw.art
SUMMARY:Card Club Open Studio 7pm - 9pm
DESCRIPTION:Card Club Open Studio 3rd Tuesday of every month.
URL:https://dataw.art/event/card-club-open-studio-7-9-pm-2-2-2-2/2029-07-17/
LOCATION:CC arts and crafts room
CATEGORIES:Card Club
END:VEVENT
BEGIN:VEVENT
DTSTART;TZID=America/New_York:20290821T190000
DTEND;TZID=America/New_York:20290821T210000
DTSTAMP:20260423T185049
CREATED:20250730T184046Z
LAST-MODIFIED:20260215T145319Z
UID:10005565-1882033200-1882040400@dataw.art
SUMMARY:Card Club Open Studio 7pm - 9pm
DESCRIPTION:Card Club Open Studio 3rd Tuesday of every month.
URL:https://dataw.art/event/card-club-open-studio-7-9-pm-2-2-2-2/2029-08-21/
LOCATION:CC arts and crafts room
CATEGORIES:Card Club
END:VEVENT
BEGIN:VEVENT
DTSTART;TZID=America/New_York:20290918T190000
DTEND;TZID=America/New_York:20290918T210000
DTSTAMP:20260423T185049
CREATED:20250730T184046Z
LAST-MODIFIED:20260215T145319Z
UID:10005566-1884452400-1884459600@dataw.art
SUMMARY:Card Club Open Studio 7pm - 9pm
DESCRIPTION:Card Club Open Studio 3rd Tuesday of every month.
URL:https://dataw.art/event/card-club-open-studio-7-9-pm-2-2-2-2/2029-09-18/
LOCATION:CC arts and crafts room
CATEGORIES:Card Club
END:VEVENT
BEGIN:VEVENT
DTSTART;TZID=America/New_York:20291016T190000
DTEND;TZID=America/New_York:20291016T210000
DTSTAMP:20260423T185049
CREATED:20250730T184046Z
LAST-MODIFIED:20260215T145319Z
UID:10005567-1886871600-1886878800@dataw.art
SUMMARY:Card Club Open Studio 7pm - 9pm
DESCRIPTION:Card Club Open Studio 3rd Tuesday of every month.
URL:https://dataw.art/event/card-club-open-studio-7-9-pm-2-2-2-2/2029-10-16/
LOCATION:CC arts and crafts room
CATEGORIES:Card Club
END:VEVENT
BEGIN:VEVENT
DTSTART;TZID=America/New_York:20291120T190000
DTEND;TZID=America/New_York:20291120T210000
DTSTAMP:20260423T185049
CREATED:20250730T184046Z
LAST-MODIFIED:20260215T145319Z
UID:10005568-1889895600-1889902800@dataw.art
SUMMARY:Card Club Open Studio 7pm - 9pm
DESCRIPTION:Card Club Open Studio 3rd Tuesday of every month.
URL:https://dataw.art/event/card-club-open-studio-7-9-pm-2-2-2-2/2029-11-20/
LOCATION:CC arts and crafts room
CATEGORIES:Card Club
END:VEVENT
BEGIN:VEVENT
DTSTART;TZID=America/New_York:20291218T190000
DTEND;TZID=America/New_York:20291218T210000
DTSTAMP:20260423T185049
CREATED:20250730T184046Z
LAST-MODIFIED:20260215T145319Z
UID:10005792-1892314800-1892322000@dataw.art
SUMMARY:Card Club Open Studio 7pm - 9pm
DESCRIPTION:Card Club Open Studio 3rd Tuesday of every month.
URL:https://dataw.art/event/card-club-open-studio-7-9-pm-2-2-2-2/2029-12-18/
LOCATION:CC arts and crafts room
CATEGORIES:Card Club
END:VEVENT
BEGIN:VEVENT
DTSTART;TZID=America/New_York:20300115T190000
DTEND;TZID=America/New_York:20300115T210000
DTSTAMP:20260423T185049
CREATED:20250730T184046Z
LAST-MODIFIED:20260215T145319Z
UID:10005793-1894734000-1894741200@dataw.art
SUMMARY:Card Club Open Studio 7pm - 9pm
DESCRIPTION:Card Club Open Studio 3rd Tuesday of every month.
URL:https://dataw.art/event/card-club-open-studio-7-9-pm-2-2-2-2/2030-01-15/
LOCATION:CC arts and crafts room
CATEGORIES:Card Club
END:VEVENT
BEGIN:VEVENT
DTSTART;TZID=America/New_York:20300219T190000
DTEND;TZID=America/New_York:20300219T210000
DTSTAMP:20260423T185049
CREATED:20250730T184046Z
LAST-MODIFIED:20260215T145319Z
UID:10005794-1897758000-1897765200@dataw.art
SUMMARY:Card Club Open Studio 7pm - 9pm
DESCRIPTION:Card Club Open Studio 3rd Tuesday of every month.
URL:https://dataw.art/event/card-club-open-studio-7-9-pm-2-2-2-2/2030-02-19/
LOCATION:CC arts and crafts room
CATEGORIES:Card Club
END:VEVENT
BEGIN:VEVENT
DTSTART;TZID=America/New_York:20300319T190000
DTEND;TZID=America/New_York:20300319T210000
DTSTAMP:20260423T185049
CREATED:20250730T184046Z
LAST-MODIFIED:20260215T145319Z
UID:10005795-1900177200-1900184400@dataw.art
SUMMARY:Card Club Open Studio 7pm - 9pm
DESCRIPTION:Card Club Open Studio 3rd Tuesday of every month.
URL:https://dataw.art/event/card-club-open-studio-7-9-pm-2-2-2-2/2030-03-19/
LOCATION:CC arts and crafts room
CATEGORIES:Card Club
END:VEVENT
BEGIN:VEVENT
DTSTART;TZID=America/New_York:20300416T190000
DTEND;TZID=America/New_York:20300416T210000
DTSTAMP:20260423T185049
CREATED:20250730T184046Z
LAST-MODIFIED:20260215T145319Z
UID:10005796-1902596400-1902603600@dataw.art
SUMMARY:Card Club Open Studio 7pm - 9pm
DESCRIPTION:Card Club Open Studio 3rd Tuesday of every month.
URL:https://dataw.art/event/card-club-open-studio-7-9-pm-2-2-2-2/2030-04-16/
LOCATION:CC arts and crafts room
CATEGORIES:Card Club
END:VEVENT
BEGIN:VEVENT
DTSTART;TZID=America/New_York:20300521T190000
DTEND;TZID=America/New_York:20300521T210000
DTSTAMP:20260423T185049
CREATED:20250730T184046Z
LAST-MODIFIED:20260215T145319Z
UID:10005797-1905620400-1905627600@dataw.art
SUMMARY:Card Club Open Studio 7pm - 9pm
DESCRIPTION:Card Club Open Studio 3rd Tuesday of every month.
URL:https://dataw.art/event/card-club-open-studio-7-9-pm-2-2-2-2/2030-05-21/
LOCATION:CC arts and crafts room
CATEGORIES:Card Club
END:VEVENT
BEGIN:VEVENT
DTSTART;TZID=America/New_York:20300618T190000
DTEND;TZID=America/New_York:20300618T210000
DTSTAMP:20260423T185049
CREATED:20250730T184046Z
LAST-MODIFIED:20260215T145319Z
UID:10005798-1908039600-1908046800@dataw.art
SUMMARY:Card Club Open Studio 7pm - 9pm
DESCRIPTION:Card Club Open Studio 3rd Tuesday of every month.
URL:https://dataw.art/event/card-club-open-studio-7-9-pm-2-2-2-2/2030-06-18/
LOCATION:CC arts and crafts room
CATEGORIES:Card Club
END:VEVENT
END:VCALENDAR