BEGIN:VCALENDAR
VERSION:2.0
PRODID:-//Dataw Visual Arts Club - ECPv6.15.20//NONSGML v1.0//EN
CALSCALE:GREGORIAN
METHOD:PUBLISH
X-ORIGINAL-URL:https://dataw.art
X-WR-CALDESC:Events for Dataw Visual Arts Club
REFRESH-INTERVAL;VALUE=DURATION:PT1H
X-Robots-Tag:noindex
X-PUBLISHED-TTL:PT1H
BEGIN:VTIMEZONE
TZID:America/New_York
BEGIN:DAYLIGHT
TZOFFSETFROM:-0500
TZOFFSETTO:-0400
TZNAME:EDT
DTSTART:20270314T070000
END:DAYLIGHT
BEGIN:STANDARD
TZOFFSETFROM:-0400
TZOFFSETTO:-0500
TZNAME:EST
DTSTART:20271107T060000
END:STANDARD
BEGIN:DAYLIGHT
TZOFFSETFROM:-0500
TZOFFSETTO:-0400
TZNAME:EDT
DTSTART:20280312T070000
END:DAYLIGHT
BEGIN:STANDARD
TZOFFSETFROM:-0400
TZOFFSETTO:-0500
TZNAME:EST
DTSTART:20281105T060000
END:STANDARD
BEGIN:DAYLIGHT
TZOFFSETFROM:-0500
TZOFFSETTO:-0400
TZNAME:EDT
DTSTART:20290311T070000
END:DAYLIGHT
BEGIN:STANDARD
TZOFFSETFROM:-0400
TZOFFSETTO:-0500
TZNAME:EST
DTSTART:20291104T060000
END:STANDARD
BEGIN:DAYLIGHT
TZOFFSETFROM:-0500
TZOFFSETTO:-0400
TZNAME:EDT
DTSTART:20300310T070000
END:DAYLIGHT
BEGIN:STANDARD
TZOFFSETFROM:-0400
TZOFFSETTO:-0500
TZNAME:EST
DTSTART:20301103T060000
END:STANDARD
BEGIN:DAYLIGHT
TZOFFSETFROM:-0500
TZOFFSETTO:-0400
TZNAME:EDT
DTSTART:20310309T070000
END:DAYLIGHT
BEGIN:STANDARD
TZOFFSETFROM:-0400
TZOFFSETTO:-0500
TZNAME:EST
DTSTART:20311102T060000
END:STANDARD
END:VTIMEZONE
BEGIN:VEVENT
DTSTART;TZID=America/New_York:20281106T150000
DTEND;TZID=America/New_York:20281106T170000
DTSTAMP:20260423T171419
CREATED:20251224T200725Z
LAST-MODIFIED:20251224T200725Z
UID:10005628-1857135600-1857142800@dataw.art
SUMMARY:Board Meeting - 3-5 pm
DESCRIPTION:VAC Board Meeting meets on the first Monday of every month\, except in January\, July\, and August.
URL:https://dataw.art/event/board-meeting-3pm-2-2/2028-11-06/
LOCATION:CC arts and crafts room
ORGANIZER;CN="Linda Stevens-Sloan":MAILTO:llindastevenssloan@gmail.com
END:VEVENT
BEGIN:VEVENT
DTSTART;TZID=America/New_York:20281204T150000
DTEND;TZID=America/New_York:20281204T170000
DTSTAMP:20260423T171419
CREATED:20251224T200725Z
LAST-MODIFIED:20251224T200725Z
UID:10005629-1859554800-1859562000@dataw.art
SUMMARY:Board Meeting - 3-5 pm
DESCRIPTION:VAC Board Meeting meets on the first Monday of every month\, except in January\, July\, and August.
URL:https://dataw.art/event/board-meeting-3pm-2-2/2028-12-04/
LOCATION:CC arts and crafts room
ORGANIZER;CN="Linda Stevens-Sloan":MAILTO:llindastevenssloan@gmail.com
END:VEVENT
BEGIN:VEVENT
DTSTART;TZID=America/New_York:20290101T150000
DTEND;TZID=America/New_York:20290101T170000
DTSTAMP:20260423T171419
CREATED:20251224T200725Z
LAST-MODIFIED:20251224T200725Z
UID:10005630-1861974000-1861981200@dataw.art
SUMMARY:Board Meeting - 3-5 pm
DESCRIPTION:VAC Board Meeting meets on the first Monday of every month\, except in January\, July\, and August.
URL:https://dataw.art/event/board-meeting-3pm-2-2/2029-01-01/
LOCATION:CC arts and crafts room
ORGANIZER;CN="Linda Stevens-Sloan":MAILTO:llindastevenssloan@gmail.com
END:VEVENT
BEGIN:VEVENT
DTSTART;TZID=America/New_York:20290205T150000
DTEND;TZID=America/New_York:20290205T170000
DTSTAMP:20260423T171419
CREATED:20251224T200725Z
LAST-MODIFIED:20251224T200725Z
UID:10005631-1864998000-1865005200@dataw.art
SUMMARY:Board Meeting - 3-5 pm
DESCRIPTION:VAC Board Meeting meets on the first Monday of every month\, except in January\, July\, and August.
URL:https://dataw.art/event/board-meeting-3pm-2-2/2029-02-05/
LOCATION:CC arts and crafts room
ORGANIZER;CN="Linda Stevens-Sloan":MAILTO:llindastevenssloan@gmail.com
END:VEVENT
BEGIN:VEVENT
DTSTART;TZID=America/New_York:20290305T150000
DTEND;TZID=America/New_York:20290305T170000
DTSTAMP:20260423T171419
CREATED:20251224T200725Z
LAST-MODIFIED:20251224T200725Z
UID:10005632-1867417200-1867424400@dataw.art
SUMMARY:Board Meeting - 3-5 pm
DESCRIPTION:VAC Board Meeting meets on the first Monday of every month\, except in January\, July\, and August.
URL:https://dataw.art/event/board-meeting-3pm-2-2/2029-03-05/
LOCATION:CC arts and crafts room
ORGANIZER;CN="Linda Stevens-Sloan":MAILTO:llindastevenssloan@gmail.com
END:VEVENT
BEGIN:VEVENT
DTSTART;TZID=America/New_York:20290402T150000
DTEND;TZID=America/New_York:20290402T170000
DTSTAMP:20260423T171419
CREATED:20251224T200725Z
LAST-MODIFIED:20251224T200725Z
UID:10005633-1869836400-1869843600@dataw.art
SUMMARY:Board Meeting - 3-5 pm
DESCRIPTION:VAC Board Meeting meets on the first Monday of every month\, except in January\, July\, and August.
URL:https://dataw.art/event/board-meeting-3pm-2-2/2029-04-02/
LOCATION:CC arts and crafts room
ORGANIZER;CN="Linda Stevens-Sloan":MAILTO:llindastevenssloan@gmail.com
END:VEVENT
BEGIN:VEVENT
DTSTART;TZID=America/New_York:20290507T150000
DTEND;TZID=America/New_York:20290507T170000
DTSTAMP:20260423T171419
CREATED:20251224T200725Z
LAST-MODIFIED:20251224T200725Z
UID:10005634-1872860400-1872867600@dataw.art
SUMMARY:Board Meeting - 3-5 pm
DESCRIPTION:VAC Board Meeting meets on the first Monday of every month\, except in January\, July\, and August.
URL:https://dataw.art/event/board-meeting-3pm-2-2/2029-05-07/
LOCATION:CC arts and crafts room
ORGANIZER;CN="Linda Stevens-Sloan":MAILTO:llindastevenssloan@gmail.com
END:VEVENT
BEGIN:VEVENT
DTSTART;TZID=America/New_York:20290604T150000
DTEND;TZID=America/New_York:20290604T170000
DTSTAMP:20260423T171419
CREATED:20251224T200725Z
LAST-MODIFIED:20251224T200725Z
UID:10005635-1875279600-1875286800@dataw.art
SUMMARY:Board Meeting - 3-5 pm
DESCRIPTION:VAC Board Meeting meets on the first Monday of every month\, except in January\, July\, and August.
URL:https://dataw.art/event/board-meeting-3pm-2-2/2029-06-04/
LOCATION:CC arts and crafts room
ORGANIZER;CN="Linda Stevens-Sloan":MAILTO:llindastevenssloan@gmail.com
END:VEVENT
BEGIN:VEVENT
DTSTART;TZID=America/New_York:20290702T150000
DTEND;TZID=America/New_York:20290702T170000
DTSTAMP:20260423T171419
CREATED:20251224T200725Z
LAST-MODIFIED:20251224T200725Z
UID:10005636-1877698800-1877706000@dataw.art
SUMMARY:Board Meeting - 3-5 pm
DESCRIPTION:VAC Board Meeting meets on the first Monday of every month\, except in January\, July\, and August.
URL:https://dataw.art/event/board-meeting-3pm-2-2/2029-07-02/
LOCATION:CC arts and crafts room
ORGANIZER;CN="Linda Stevens-Sloan":MAILTO:llindastevenssloan@gmail.com
END:VEVENT
BEGIN:VEVENT
DTSTART;TZID=America/New_York:20290806T150000
DTEND;TZID=America/New_York:20290806T170000
DTSTAMP:20260423T171419
CREATED:20251224T200725Z
LAST-MODIFIED:20251224T200725Z
UID:10005637-1880722800-1880730000@dataw.art
SUMMARY:Board Meeting - 3-5 pm
DESCRIPTION:VAC Board Meeting meets on the first Monday of every month\, except in January\, July\, and August.
URL:https://dataw.art/event/board-meeting-3pm-2-2/2029-08-06/
LOCATION:CC arts and crafts room
ORGANIZER;CN="Linda Stevens-Sloan":MAILTO:llindastevenssloan@gmail.com
END:VEVENT
BEGIN:VEVENT
DTSTART;TZID=America/New_York:20290903T150000
DTEND;TZID=America/New_York:20290903T170000
DTSTAMP:20260423T171419
CREATED:20251224T200725Z
LAST-MODIFIED:20251224T200725Z
UID:10005638-1883142000-1883149200@dataw.art
SUMMARY:Board Meeting - 3-5 pm
DESCRIPTION:VAC Board Meeting meets on the first Monday of every month\, except in January\, July\, and August.
URL:https://dataw.art/event/board-meeting-3pm-2-2/2029-09-03/
LOCATION:CC arts and crafts room
ORGANIZER;CN="Linda Stevens-Sloan":MAILTO:llindastevenssloan@gmail.com
END:VEVENT
BEGIN:VEVENT
DTSTART;TZID=America/New_York:20291001T150000
DTEND;TZID=America/New_York:20291001T170000
DTSTAMP:20260423T171419
CREATED:20251224T200725Z
LAST-MODIFIED:20251224T200725Z
UID:10005639-1885561200-1885568400@dataw.art
SUMMARY:Board Meeting - 3-5 pm
DESCRIPTION:VAC Board Meeting meets on the first Monday of every month\, except in January\, July\, and August.
URL:https://dataw.art/event/board-meeting-3pm-2-2/2029-10-01/
LOCATION:CC arts and crafts room
ORGANIZER;CN="Linda Stevens-Sloan":MAILTO:llindastevenssloan@gmail.com
END:VEVENT
BEGIN:VEVENT
DTSTART;TZID=America/New_York:20291105T150000
DTEND;TZID=America/New_York:20291105T170000
DTSTAMP:20260423T171419
CREATED:20251224T200725Z
LAST-MODIFIED:20251224T200725Z
UID:10005640-1888585200-1888592400@dataw.art
SUMMARY:Board Meeting - 3-5 pm
DESCRIPTION:VAC Board Meeting meets on the first Monday of every month\, except in January\, July\, and August.
URL:https://dataw.art/event/board-meeting-3pm-2-2/2029-11-05/
LOCATION:CC arts and crafts room
ORGANIZER;CN="Linda Stevens-Sloan":MAILTO:llindastevenssloan@gmail.com
END:VEVENT
BEGIN:VEVENT
DTSTART;TZID=America/New_York:20291203T150000
DTEND;TZID=America/New_York:20291203T170000
DTSTAMP:20260423T171419
CREATED:20251224T200725Z
LAST-MODIFIED:20251224T200725Z
UID:10005641-1891004400-1891011600@dataw.art
SUMMARY:Board Meeting - 3-5 pm
DESCRIPTION:VAC Board Meeting meets on the first Monday of every month\, except in January\, July\, and August.
URL:https://dataw.art/event/board-meeting-3pm-2-2/2029-12-03/
LOCATION:CC arts and crafts room
ORGANIZER;CN="Linda Stevens-Sloan":MAILTO:llindastevenssloan@gmail.com
END:VEVENT
BEGIN:VEVENT
DTSTART;TZID=America/New_York:20300107T150000
DTEND;TZID=America/New_York:20300107T170000
DTSTAMP:20260423T171419
CREATED:20251224T200725Z
LAST-MODIFIED:20251224T200725Z
UID:10005642-1894028400-1894035600@dataw.art
SUMMARY:Board Meeting - 3-5 pm
DESCRIPTION:VAC Board Meeting meets on the first Monday of every month\, except in January\, July\, and August.
URL:https://dataw.art/event/board-meeting-3pm-2-2/2030-01-07/
LOCATION:CC arts and crafts room
ORGANIZER;CN="Linda Stevens-Sloan":MAILTO:llindastevenssloan@gmail.com
END:VEVENT
BEGIN:VEVENT
DTSTART;TZID=America/New_York:20300204T150000
DTEND;TZID=America/New_York:20300204T170000
DTSTAMP:20260423T171419
CREATED:20251224T200725Z
LAST-MODIFIED:20251224T200725Z
UID:10005643-1896447600-1896454800@dataw.art
SUMMARY:Board Meeting - 3-5 pm
DESCRIPTION:VAC Board Meeting meets on the first Monday of every month\, except in January\, July\, and August.
URL:https://dataw.art/event/board-meeting-3pm-2-2/2030-02-04/
LOCATION:CC arts and crafts room
ORGANIZER;CN="Linda Stevens-Sloan":MAILTO:llindastevenssloan@gmail.com
END:VEVENT
BEGIN:VEVENT
DTSTART;TZID=America/New_York:20300304T150000
DTEND;TZID=America/New_York:20300304T170000
DTSTAMP:20260423T171419
CREATED:20251224T200725Z
LAST-MODIFIED:20251224T200725Z
UID:10005932-1898866800-1898874000@dataw.art
SUMMARY:Board Meeting - 3-5 pm
DESCRIPTION:VAC Board Meeting meets on the first Monday of every month\, except in January\, July\, and August.
URL:https://dataw.art/event/board-meeting-3pm-2-2/2030-03-04/
LOCATION:CC arts and crafts room
ORGANIZER;CN="Linda Stevens-Sloan":MAILTO:llindastevenssloan@gmail.com
END:VEVENT
BEGIN:VEVENT
DTSTART;TZID=America/New_York:20300401T150000
DTEND;TZID=America/New_York:20300401T170000
DTSTAMP:20260423T171419
CREATED:20251224T200725Z
LAST-MODIFIED:20251224T200725Z
UID:10005933-1901286000-1901293200@dataw.art
SUMMARY:Board Meeting - 3-5 pm
DESCRIPTION:VAC Board Meeting meets on the first Monday of every month\, except in January\, July\, and August.
URL:https://dataw.art/event/board-meeting-3pm-2-2/2030-04-01/
LOCATION:CC arts and crafts room
ORGANIZER;CN="Linda Stevens-Sloan":MAILTO:llindastevenssloan@gmail.com
END:VEVENT
BEGIN:VEVENT
DTSTART;TZID=America/New_York:20300506T150000
DTEND;TZID=America/New_York:20300506T170000
DTSTAMP:20260423T171419
CREATED:20251224T200725Z
LAST-MODIFIED:20251224T200725Z
UID:10005934-1904310000-1904317200@dataw.art
SUMMARY:Board Meeting - 3-5 pm
DESCRIPTION:VAC Board Meeting meets on the first Monday of every month\, except in January\, July\, and August.
URL:https://dataw.art/event/board-meeting-3pm-2-2/2030-05-06/
LOCATION:CC arts and crafts room
ORGANIZER;CN="Linda Stevens-Sloan":MAILTO:llindastevenssloan@gmail.com
END:VEVENT
BEGIN:VEVENT
DTSTART;TZID=America/New_York:20300603T150000
DTEND;TZID=America/New_York:20300603T170000
DTSTAMP:20260423T171419
CREATED:20251224T200725Z
LAST-MODIFIED:20251224T200725Z
UID:10005935-1906729200-1906736400@dataw.art
SUMMARY:Board Meeting - 3-5 pm
DESCRIPTION:VAC Board Meeting meets on the first Monday of every month\, except in January\, July\, and August.
URL:https://dataw.art/event/board-meeting-3pm-2-2/2030-06-03/
LOCATION:CC arts and crafts room
ORGANIZER;CN="Linda Stevens-Sloan":MAILTO:llindastevenssloan@gmail.com
END:VEVENT
BEGIN:VEVENT
DTSTART;TZID=America/New_York:20300701T150000
DTEND;TZID=America/New_York:20300701T170000
DTSTAMP:20260423T171419
CREATED:20251224T200725Z
LAST-MODIFIED:20251224T200725Z
UID:10005936-1909148400-1909155600@dataw.art
SUMMARY:Board Meeting - 3-5 pm
DESCRIPTION:VAC Board Meeting meets on the first Monday of every month\, except in January\, July\, and August.
URL:https://dataw.art/event/board-meeting-3pm-2-2/2030-07-01/
LOCATION:CC arts and crafts room
ORGANIZER;CN="Linda Stevens-Sloan":MAILTO:llindastevenssloan@gmail.com
END:VEVENT
BEGIN:VEVENT
DTSTART;TZID=America/New_York:20300805T150000
DTEND;TZID=America/New_York:20300805T170000
DTSTAMP:20260423T171419
CREATED:20251224T200725Z
LAST-MODIFIED:20251224T200725Z
UID:10005937-1912172400-1912179600@dataw.art
SUMMARY:Board Meeting - 3-5 pm
DESCRIPTION:VAC Board Meeting meets on the first Monday of every month\, except in January\, July\, and August.
URL:https://dataw.art/event/board-meeting-3pm-2-2/2030-08-05/
LOCATION:CC arts and crafts room
ORGANIZER;CN="Linda Stevens-Sloan":MAILTO:llindastevenssloan@gmail.com
END:VEVENT
BEGIN:VEVENT
DTSTART;TZID=America/New_York:20300902T150000
DTEND;TZID=America/New_York:20300902T170000
DTSTAMP:20260423T171419
CREATED:20251224T200725Z
LAST-MODIFIED:20251224T200725Z
UID:10005938-1914591600-1914598800@dataw.art
SUMMARY:Board Meeting - 3-5 pm
DESCRIPTION:VAC Board Meeting meets on the first Monday of every month\, except in January\, July\, and August.
URL:https://dataw.art/event/board-meeting-3pm-2-2/2030-09-02/
LOCATION:CC arts and crafts room
ORGANIZER;CN="Linda Stevens-Sloan":MAILTO:llindastevenssloan@gmail.com
END:VEVENT
BEGIN:VEVENT
DTSTART;TZID=America/New_York:20301007T150000
DTEND;TZID=America/New_York:20301007T170000
DTSTAMP:20260423T171419
CREATED:20251224T200725Z
LAST-MODIFIED:20251224T200725Z
UID:10005939-1917615600-1917622800@dataw.art
SUMMARY:Board Meeting - 3-5 pm
DESCRIPTION:VAC Board Meeting meets on the first Monday of every month\, except in January\, July\, and August.
URL:https://dataw.art/event/board-meeting-3pm-2-2/2030-10-07/
LOCATION:CC arts and crafts room
ORGANIZER;CN="Linda Stevens-Sloan":MAILTO:llindastevenssloan@gmail.com
END:VEVENT
BEGIN:VEVENT
DTSTART;TZID=America/New_York:20301104T150000
DTEND;TZID=America/New_York:20301104T170000
DTSTAMP:20260423T171419
CREATED:20251224T200725Z
LAST-MODIFIED:20251224T200725Z
UID:10005940-1920034800-1920042000@dataw.art
SUMMARY:Board Meeting - 3-5 pm
DESCRIPTION:VAC Board Meeting meets on the first Monday of every month\, except in January\, July\, and August.
URL:https://dataw.art/event/board-meeting-3pm-2-2/2030-11-04/
LOCATION:CC arts and crafts room
ORGANIZER;CN="Linda Stevens-Sloan":MAILTO:llindastevenssloan@gmail.com
END:VEVENT
BEGIN:VEVENT
DTSTART;TZID=America/New_York:20301202T150000
DTEND;TZID=America/New_York:20301202T170000
DTSTAMP:20260423T171419
CREATED:20251224T200725Z
LAST-MODIFIED:20251224T200725Z
UID:10005941-1922454000-1922461200@dataw.art
SUMMARY:Board Meeting - 3-5 pm
DESCRIPTION:VAC Board Meeting meets on the first Monday of every month\, except in January\, July\, and August.
URL:https://dataw.art/event/board-meeting-3pm-2-2/2030-12-02/
LOCATION:CC arts and crafts room
ORGANIZER;CN="Linda Stevens-Sloan":MAILTO:llindastevenssloan@gmail.com
END:VEVENT
END:VCALENDAR