BEGIN:VCALENDAR
VERSION:2.0
PRODID:-//Dataw Visual Arts Club - ECPv6.15.20//NONSGML v1.0//EN
CALSCALE:GREGORIAN
METHOD:PUBLISH
X-ORIGINAL-URL:https://dataw.art
X-WR-CALDESC:Events for Dataw Visual Arts Club
REFRESH-INTERVAL;VALUE=DURATION:PT1H
X-Robots-Tag:noindex
X-PUBLISHED-TTL:PT1H
BEGIN:VTIMEZONE
TZID:America/New_York
BEGIN:DAYLIGHT
TZOFFSETFROM:-0500
TZOFFSETTO:-0400
TZNAME:EDT
DTSTART:20280312T070000
END:DAYLIGHT
BEGIN:STANDARD
TZOFFSETFROM:-0400
TZOFFSETTO:-0500
TZNAME:EST
DTSTART:20281105T060000
END:STANDARD
BEGIN:DAYLIGHT
TZOFFSETFROM:-0500
TZOFFSETTO:-0400
TZNAME:EDT
DTSTART:20290311T070000
END:DAYLIGHT
BEGIN:STANDARD
TZOFFSETFROM:-0400
TZOFFSETTO:-0500
TZNAME:EST
DTSTART:20291104T060000
END:STANDARD
BEGIN:DAYLIGHT
TZOFFSETFROM:-0500
TZOFFSETTO:-0400
TZNAME:EDT
DTSTART:20300310T070000
END:DAYLIGHT
BEGIN:STANDARD
TZOFFSETFROM:-0400
TZOFFSETTO:-0500
TZNAME:EST
DTSTART:20301103T060000
END:STANDARD
BEGIN:DAYLIGHT
TZOFFSETFROM:-0500
TZOFFSETTO:-0400
TZNAME:EDT
DTSTART:20310309T070000
END:DAYLIGHT
BEGIN:STANDARD
TZOFFSETFROM:-0400
TZOFFSETTO:-0500
TZNAME:EST
DTSTART:20311102T060000
END:STANDARD
END:VTIMEZONE
BEGIN:VEVENT
DTSTART;TZID=America/New_York:20290915T093000
DTEND;TZID=America/New_York:20290915T123000
DTSTAMP:20260423T170056
CREATED:20250730T185214Z
LAST-MODIFIED:20250730T185324Z
UID:10005909-1884159000-1884169800@dataw.art
SUMMARY:Watercolor Society - Meeting
DESCRIPTION:Meetings 9:30 – 12:30 pm Third Saturday of the month
URL:https://dataw.art/event/watercolor-society-meeting/2029-09-15/
ATTACH;FMTTYPE=image/jpeg:https://dataw.art/wp-content/uploads/Watercolor-Society-800x600-1.jpg
END:VEVENT
BEGIN:VEVENT
DTSTART;TZID=America/New_York:20291020T093000
DTEND;TZID=America/New_York:20291020T123000
DTSTAMP:20260423T170056
CREATED:20250730T185214Z
LAST-MODIFIED:20250730T185324Z
UID:10005910-1887183000-1887193800@dataw.art
SUMMARY:Watercolor Society - Meeting
DESCRIPTION:Meetings 9:30 – 12:30 pm Third Saturday of the month
URL:https://dataw.art/event/watercolor-society-meeting/2029-10-20/
ATTACH;FMTTYPE=image/jpeg:https://dataw.art/wp-content/uploads/Watercolor-Society-800x600-1.jpg
END:VEVENT
BEGIN:VEVENT
DTSTART;TZID=America/New_York:20291117T093000
DTEND;TZID=America/New_York:20291117T123000
DTSTAMP:20260423T170056
CREATED:20250730T185214Z
LAST-MODIFIED:20250730T185324Z
UID:10005911-1889602200-1889613000@dataw.art
SUMMARY:Watercolor Society - Meeting
DESCRIPTION:Meetings 9:30 – 12:30 pm Third Saturday of the month
URL:https://dataw.art/event/watercolor-society-meeting/2029-11-17/
ATTACH;FMTTYPE=image/jpeg:https://dataw.art/wp-content/uploads/Watercolor-Society-800x600-1.jpg
END:VEVENT
BEGIN:VEVENT
DTSTART;TZID=America/New_York:20291215T093000
DTEND;TZID=America/New_York:20291215T123000
DTSTAMP:20260423T170056
CREATED:20250730T185214Z
LAST-MODIFIED:20250730T185324Z
UID:10005912-1892021400-1892032200@dataw.art
SUMMARY:Watercolor Society - Meeting
DESCRIPTION:Meetings 9:30 – 12:30 pm Third Saturday of the month
URL:https://dataw.art/event/watercolor-society-meeting/2029-12-15/
ATTACH;FMTTYPE=image/jpeg:https://dataw.art/wp-content/uploads/Watercolor-Society-800x600-1.jpg
END:VEVENT
BEGIN:VEVENT
DTSTART;TZID=America/New_York:20300119T093000
DTEND;TZID=America/New_York:20300119T123000
DTSTAMP:20260423T170056
CREATED:20250730T185214Z
LAST-MODIFIED:20250730T185324Z
UID:10005913-1895045400-1895056200@dataw.art
SUMMARY:Watercolor Society - Meeting
DESCRIPTION:Meetings 9:30 – 12:30 pm Third Saturday of the month
URL:https://dataw.art/event/watercolor-society-meeting/2030-01-19/
ATTACH;FMTTYPE=image/jpeg:https://dataw.art/wp-content/uploads/Watercolor-Society-800x600-1.jpg
END:VEVENT
BEGIN:VEVENT
DTSTART;TZID=America/New_York:20300216T093000
DTEND;TZID=America/New_York:20300216T123000
DTSTAMP:20260423T170056
CREATED:20250730T185214Z
LAST-MODIFIED:20250730T185324Z
UID:10005914-1897464600-1897475400@dataw.art
SUMMARY:Watercolor Society - Meeting
DESCRIPTION:Meetings 9:30 – 12:30 pm Third Saturday of the month
URL:https://dataw.art/event/watercolor-society-meeting/2030-02-16/
ATTACH;FMTTYPE=image/jpeg:https://dataw.art/wp-content/uploads/Watercolor-Society-800x600-1.jpg
END:VEVENT
BEGIN:VEVENT
DTSTART;TZID=America/New_York:20300316T093000
DTEND;TZID=America/New_York:20300316T123000
DTSTAMP:20260423T170056
CREATED:20250730T185214Z
LAST-MODIFIED:20250730T185324Z
UID:10005915-1899883800-1899894600@dataw.art
SUMMARY:Watercolor Society - Meeting
DESCRIPTION:Meetings 9:30 – 12:30 pm Third Saturday of the month
URL:https://dataw.art/event/watercolor-society-meeting/2030-03-16/
ATTACH;FMTTYPE=image/jpeg:https://dataw.art/wp-content/uploads/Watercolor-Society-800x600-1.jpg
END:VEVENT
BEGIN:VEVENT
DTSTART;TZID=America/New_York:20300420T093000
DTEND;TZID=America/New_York:20300420T123000
DTSTAMP:20260423T170056
CREATED:20250730T185214Z
LAST-MODIFIED:20250730T185324Z
UID:10005916-1902907800-1902918600@dataw.art
SUMMARY:Watercolor Society - Meeting
DESCRIPTION:Meetings 9:30 – 12:30 pm Third Saturday of the month
URL:https://dataw.art/event/watercolor-society-meeting/2030-04-20/
ATTACH;FMTTYPE=image/jpeg:https://dataw.art/wp-content/uploads/Watercolor-Society-800x600-1.jpg
END:VEVENT
BEGIN:VEVENT
DTSTART;TZID=America/New_York:20300518T093000
DTEND;TZID=America/New_York:20300518T123000
DTSTAMP:20260423T170056
CREATED:20250730T185214Z
LAST-MODIFIED:20250730T185324Z
UID:10005917-1905327000-1905337800@dataw.art
SUMMARY:Watercolor Society - Meeting
DESCRIPTION:Meetings 9:30 – 12:30 pm Third Saturday of the month
URL:https://dataw.art/event/watercolor-society-meeting/2030-05-18/
ATTACH;FMTTYPE=image/jpeg:https://dataw.art/wp-content/uploads/Watercolor-Society-800x600-1.jpg
END:VEVENT
BEGIN:VEVENT
DTSTART;TZID=America/New_York:20300615T093000
DTEND;TZID=America/New_York:20300615T123000
DTSTAMP:20260423T170056
CREATED:20250730T185214Z
LAST-MODIFIED:20250730T185324Z
UID:10005918-1907746200-1907757000@dataw.art
SUMMARY:Watercolor Society - Meeting
DESCRIPTION:Meetings 9:30 – 12:30 pm Third Saturday of the month
URL:https://dataw.art/event/watercolor-society-meeting/2030-06-15/
ATTACH;FMTTYPE=image/jpeg:https://dataw.art/wp-content/uploads/Watercolor-Society-800x600-1.jpg
END:VEVENT
BEGIN:VEVENT
DTSTART;TZID=America/New_York:20300720T093000
DTEND;TZID=America/New_York:20300720T123000
DTSTAMP:20260423T170056
CREATED:20250730T185214Z
LAST-MODIFIED:20250730T185324Z
UID:10005919-1910770200-1910781000@dataw.art
SUMMARY:Watercolor Society - Meeting
DESCRIPTION:Meetings 9:30 – 12:30 pm Third Saturday of the month
URL:https://dataw.art/event/watercolor-society-meeting/2030-07-20/
ATTACH;FMTTYPE=image/jpeg:https://dataw.art/wp-content/uploads/Watercolor-Society-800x600-1.jpg
END:VEVENT
END:VCALENDAR