BEGIN:VCALENDAR
VERSION:2.0
PRODID:-//Dataw Visual Arts Club - ECPv6.15.20//NONSGML v1.0//EN
CALSCALE:GREGORIAN
METHOD:PUBLISH
X-WR-CALNAME:Dataw Visual Arts Club
X-ORIGINAL-URL:https://dataw.art
X-WR-CALDESC:Events for Dataw Visual Arts Club
REFRESH-INTERVAL;VALUE=DURATION:PT1H
X-Robots-Tag:noindex
X-PUBLISHED-TTL:PT1H
BEGIN:VTIMEZONE
TZID:America/New_York
BEGIN:DAYLIGHT
TZOFFSETFROM:-0500
TZOFFSETTO:-0400
TZNAME:EDT
DTSTART:20290311T070000
END:DAYLIGHT
BEGIN:STANDARD
TZOFFSETFROM:-0400
TZOFFSETTO:-0500
TZNAME:EST
DTSTART:20291104T060000
END:STANDARD
BEGIN:DAYLIGHT
TZOFFSETFROM:-0500
TZOFFSETTO:-0400
TZNAME:EDT
DTSTART:20300310T070000
END:DAYLIGHT
BEGIN:STANDARD
TZOFFSETFROM:-0400
TZOFFSETTO:-0500
TZNAME:EST
DTSTART:20301103T060000
END:STANDARD
BEGIN:DAYLIGHT
TZOFFSETFROM:-0500
TZOFFSETTO:-0400
TZNAME:EDT
DTSTART:20310309T070000
END:DAYLIGHT
BEGIN:STANDARD
TZOFFSETFROM:-0400
TZOFFSETTO:-0500
TZNAME:EST
DTSTART:20311102T060000
END:STANDARD
BEGIN:DAYLIGHT
TZOFFSETFROM:-0500
TZOFFSETTO:-0400
TZNAME:EDT
DTSTART:20320314T070000
END:DAYLIGHT
BEGIN:STANDARD
TZOFFSETFROM:-0400
TZOFFSETTO:-0500
TZNAME:EST
DTSTART:20321107T060000
END:STANDARD
END:VTIMEZONE
BEGIN:VEVENT
DTSTART;TZID=America/New_York:20300709T140000
DTEND;TZID=America/New_York:20300709T160000
DTSTAMP:20260423T184311
CREATED:20250730T183758Z
LAST-MODIFIED:20260215T145405Z
UID:10005791-1909836000-1909843200@dataw.art
SUMMARY:Card Club Class 2-4pm
DESCRIPTION:Card Club Class 2nd Tuesday of every month.
URL:https://dataw.art/event/card-club-2-4pm-2-2023-01-10-2-2/2030-07-09/
LOCATION:CC arts and crafts room
CATEGORIES:Card Club Class
END:VEVENT
BEGIN:VEVENT
DTSTART;TZID=America/New_York:20300813T140000
DTEND;TZID=America/New_York:20300813T160000
DTSTAMP:20260423T184311
CREATED:20250730T183758Z
LAST-MODIFIED:20260215T145405Z
UID:10006259-1912860000-1912867200@dataw.art
SUMMARY:Card Club Class 2-4pm
DESCRIPTION:Card Club Class 2nd Tuesday of every month.
URL:https://dataw.art/event/card-club-2-4pm-2-2023-01-10-2-2/2030-08-13/
LOCATION:CC arts and crafts room
CATEGORIES:Card Club Class
END:VEVENT
BEGIN:VEVENT
DTSTART;TZID=America/New_York:20300910T140000
DTEND;TZID=America/New_York:20300910T160000
DTSTAMP:20260423T184311
CREATED:20250730T183758Z
LAST-MODIFIED:20260215T145405Z
UID:10006260-1915279200-1915286400@dataw.art
SUMMARY:Card Club Class 2-4pm
DESCRIPTION:Card Club Class 2nd Tuesday of every month.
URL:https://dataw.art/event/card-club-2-4pm-2-2023-01-10-2-2/2030-09-10/
LOCATION:CC arts and crafts room
CATEGORIES:Card Club Class
END:VEVENT
BEGIN:VEVENT
DTSTART;TZID=America/New_York:20301008T140000
DTEND;TZID=America/New_York:20301008T160000
DTSTAMP:20260423T184311
CREATED:20250730T183758Z
LAST-MODIFIED:20260215T145405Z
UID:10006261-1917698400-1917705600@dataw.art
SUMMARY:Card Club Class 2-4pm
DESCRIPTION:Card Club Class 2nd Tuesday of every month.
URL:https://dataw.art/event/card-club-2-4pm-2-2023-01-10-2-2/2030-10-08/
LOCATION:CC arts and crafts room
CATEGORIES:Card Club Class
END:VEVENT
BEGIN:VEVENT
DTSTART;TZID=America/New_York:20301112T140000
DTEND;TZID=America/New_York:20301112T160000
DTSTAMP:20260423T184311
CREATED:20250730T183758Z
LAST-MODIFIED:20260215T145405Z
UID:10006262-1920722400-1920729600@dataw.art
SUMMARY:Card Club Class 2-4pm
DESCRIPTION:Card Club Class 2nd Tuesday of every month.
URL:https://dataw.art/event/card-club-2-4pm-2-2023-01-10-2-2/2030-11-12/
LOCATION:CC arts and crafts room
CATEGORIES:Card Club Class
END:VEVENT
BEGIN:VEVENT
DTSTART;TZID=America/New_York:20301210T140000
DTEND;TZID=America/New_York:20301210T160000
DTSTAMP:20260423T184311
CREATED:20250730T183758Z
LAST-MODIFIED:20260215T145405Z
UID:10006263-1923141600-1923148800@dataw.art
SUMMARY:Card Club Class 2-4pm
DESCRIPTION:Card Club Class 2nd Tuesday of every month.
URL:https://dataw.art/event/card-club-2-4pm-2-2023-01-10-2-2/2030-12-10/
LOCATION:CC arts and crafts room
CATEGORIES:Card Club Class
END:VEVENT
BEGIN:VEVENT
DTSTART;TZID=America/New_York:20310114T140000
DTEND;TZID=America/New_York:20310114T160000
DTSTAMP:20260423T184311
CREATED:20250730T183758Z
LAST-MODIFIED:20260215T145405Z
UID:10006264-1926165600-1926172800@dataw.art
SUMMARY:Card Club Class 2-4pm
DESCRIPTION:Card Club Class 2nd Tuesday of every month.
URL:https://dataw.art/event/card-club-2-4pm-2-2023-01-10-2-2/2031-01-14/
LOCATION:CC arts and crafts room
CATEGORIES:Card Club Class
END:VEVENT
BEGIN:VEVENT
DTSTART;TZID=America/New_York:20310211T140000
DTEND;TZID=America/New_York:20310211T160000
DTSTAMP:20260423T184311
CREATED:20250730T183758Z
LAST-MODIFIED:20260215T145405Z
UID:10006265-1928584800-1928592000@dataw.art
SUMMARY:Card Club Class 2-4pm
DESCRIPTION:Card Club Class 2nd Tuesday of every month.
URL:https://dataw.art/event/card-club-2-4pm-2-2023-01-10-2-2/2031-02-11/
LOCATION:CC arts and crafts room
CATEGORIES:Card Club Class
END:VEVENT
END:VCALENDAR