BEGIN:VCALENDAR
VERSION:2.0
PRODID:-//Dataw Visual Arts Club - ECPv6.15.20//NONSGML v1.0//EN
CALSCALE:GREGORIAN
METHOD:PUBLISH
X-ORIGINAL-URL:https://dataw.art
X-WR-CALDESC:Events for Dataw Visual Arts Club
REFRESH-INTERVAL;VALUE=DURATION:PT1H
X-Robots-Tag:noindex
X-PUBLISHED-TTL:PT1H
BEGIN:VTIMEZONE
TZID:America/New_York
BEGIN:DAYLIGHT
TZOFFSETFROM:-0500
TZOFFSETTO:-0400
TZNAME:EDT
DTSTART:20290311T070000
END:DAYLIGHT
BEGIN:STANDARD
TZOFFSETFROM:-0400
TZOFFSETTO:-0500
TZNAME:EST
DTSTART:20291104T060000
END:STANDARD
BEGIN:DAYLIGHT
TZOFFSETFROM:-0500
TZOFFSETTO:-0400
TZNAME:EDT
DTSTART:20300310T070000
END:DAYLIGHT
BEGIN:STANDARD
TZOFFSETFROM:-0400
TZOFFSETTO:-0500
TZNAME:EST
DTSTART:20301103T060000
END:STANDARD
BEGIN:DAYLIGHT
TZOFFSETFROM:-0500
TZOFFSETTO:-0400
TZNAME:EDT
DTSTART:20310309T070000
END:DAYLIGHT
BEGIN:STANDARD
TZOFFSETFROM:-0400
TZOFFSETTO:-0500
TZNAME:EST
DTSTART:20311102T060000
END:STANDARD
BEGIN:DAYLIGHT
TZOFFSETFROM:-0500
TZOFFSETTO:-0400
TZNAME:EDT
DTSTART:20320314T070000
END:DAYLIGHT
BEGIN:STANDARD
TZOFFSETFROM:-0400
TZOFFSETTO:-0500
TZNAME:EST
DTSTART:20321107T060000
END:STANDARD
END:VTIMEZONE
BEGIN:VEVENT
DTSTART;TZID=America/New_York:20300716T190000
DTEND;TZID=America/New_York:20300716T210000
DTSTAMP:20260423T231943
CREATED:20250730T184046Z
LAST-MODIFIED:20260215T145319Z
UID:10005799-1910458800-1910466000@dataw.art
SUMMARY:Card Club Open Studio 7pm - 9pm
DESCRIPTION:Card Club Open Studio 3rd Tuesday of every month.
URL:https://dataw.art/event/card-club-open-studio-7-9-pm-2-2-2-2/2030-07-16/
LOCATION:CC arts and crafts room
CATEGORIES:Card Club
END:VEVENT
BEGIN:VEVENT
DTSTART;TZID=America/New_York:20300820T190000
DTEND;TZID=America/New_York:20300820T210000
DTSTAMP:20260423T231943
CREATED:20250730T184046Z
LAST-MODIFIED:20260215T145319Z
UID:10006253-1913482800-1913490000@dataw.art
SUMMARY:Card Club Open Studio 7pm - 9pm
DESCRIPTION:Card Club Open Studio 3rd Tuesday of every month.
URL:https://dataw.art/event/card-club-open-studio-7-9-pm-2-2-2-2/2030-08-20/
LOCATION:CC arts and crafts room
CATEGORIES:Card Club
END:VEVENT
BEGIN:VEVENT
DTSTART;TZID=America/New_York:20300917T190000
DTEND;TZID=America/New_York:20300917T210000
DTSTAMP:20260423T231943
CREATED:20250730T184046Z
LAST-MODIFIED:20260215T145319Z
UID:10006254-1915902000-1915909200@dataw.art
SUMMARY:Card Club Open Studio 7pm - 9pm
DESCRIPTION:Card Club Open Studio 3rd Tuesday of every month.
URL:https://dataw.art/event/card-club-open-studio-7-9-pm-2-2-2-2/2030-09-17/
LOCATION:CC arts and crafts room
CATEGORIES:Card Club
END:VEVENT
BEGIN:VEVENT
DTSTART;TZID=America/New_York:20301015T190000
DTEND;TZID=America/New_York:20301015T210000
DTSTAMP:20260423T231943
CREATED:20250730T184046Z
LAST-MODIFIED:20260215T145319Z
UID:10006255-1918321200-1918328400@dataw.art
SUMMARY:Card Club Open Studio 7pm - 9pm
DESCRIPTION:Card Club Open Studio 3rd Tuesday of every month.
URL:https://dataw.art/event/card-club-open-studio-7-9-pm-2-2-2-2/2030-10-15/
LOCATION:CC arts and crafts room
CATEGORIES:Card Club
END:VEVENT
BEGIN:VEVENT
DTSTART;TZID=America/New_York:20301119T190000
DTEND;TZID=America/New_York:20301119T210000
DTSTAMP:20260423T231943
CREATED:20250730T184046Z
LAST-MODIFIED:20260215T145319Z
UID:10006256-1921345200-1921352400@dataw.art
SUMMARY:Card Club Open Studio 7pm - 9pm
DESCRIPTION:Card Club Open Studio 3rd Tuesday of every month.
URL:https://dataw.art/event/card-club-open-studio-7-9-pm-2-2-2-2/2030-11-19/
LOCATION:CC arts and crafts room
CATEGORIES:Card Club
END:VEVENT
BEGIN:VEVENT
DTSTART;TZID=America/New_York:20301217T190000
DTEND;TZID=America/New_York:20301217T210000
DTSTAMP:20260423T231943
CREATED:20250730T184046Z
LAST-MODIFIED:20260215T145319Z
UID:10006257-1923764400-1923771600@dataw.art
SUMMARY:Card Club Open Studio 7pm - 9pm
DESCRIPTION:Card Club Open Studio 3rd Tuesday of every month.
URL:https://dataw.art/event/card-club-open-studio-7-9-pm-2-2-2-2/2030-12-17/
LOCATION:CC arts and crafts room
CATEGORIES:Card Club
END:VEVENT
BEGIN:VEVENT
DTSTART;TZID=America/New_York:20310121T190000
DTEND;TZID=America/New_York:20310121T210000
DTSTAMP:20260423T231943
CREATED:20250730T184046Z
LAST-MODIFIED:20260215T145319Z
UID:10006258-1926788400-1926795600@dataw.art
SUMMARY:Card Club Open Studio 7pm - 9pm
DESCRIPTION:Card Club Open Studio 3rd Tuesday of every month.
URL:https://dataw.art/event/card-club-open-studio-7-9-pm-2-2-2-2/2031-01-21/
LOCATION:CC arts and crafts room
CATEGORIES:Card Club
END:VEVENT
END:VCALENDAR